
BEGIN:VCALENDAR
VERSION:2.0
PRODID:-//Temple Emanuel - ECPv6.15.20//NONSGML v1.0//EN
CALSCALE:GREGORIAN
METHOD:PUBLISH
X-WR-CALNAME:Temple Emanuel
X-ORIGINAL-URL:https://www.templeemanuel.com
X-WR-CALDESC:Events for Temple Emanuel
REFRESH-INTERVAL;VALUE=DURATION:PT1H
X-Robots-Tag:noindex
X-PUBLISHED-TTL:PT1H
BEGIN:VTIMEZONE
TZID:America/New_York
BEGIN:DAYLIGHT
TZOFFSETFROM:-0500
TZOFFSETTO:-0400
TZNAME:EDT
DTSTART:20240310T070000
END:DAYLIGHT
BEGIN:STANDARD
TZOFFSETFROM:-0400
TZOFFSETTO:-0500
TZNAME:EST
DTSTART:20241103T060000
END:STANDARD
BEGIN:DAYLIGHT
TZOFFSETFROM:-0500
TZOFFSETTO:-0400
TZNAME:EDT
DTSTART:20250309T070000
END:DAYLIGHT
BEGIN:STANDARD
TZOFFSETFROM:-0400
TZOFFSETTO:-0500
TZNAME:EST
DTSTART:20251102T060000
END:STANDARD
BEGIN:DAYLIGHT
TZOFFSETFROM:-0500
TZOFFSETTO:-0400
TZNAME:EDT
DTSTART:20260308T070000
END:DAYLIGHT
BEGIN:STANDARD
TZOFFSETFROM:-0400
TZOFFSETTO:-0500
TZNAME:EST
DTSTART:20261101T060000
END:STANDARD
END:VTIMEZONE
BEGIN:VEVENT
DTSTART;TZID=America/New_York:20250316T101500
DTEND;TZID=America/New_York:20250316T120000
DTSTAMP:20260425T092047
CREATED:20230208T181458Z
LAST-MODIFIED:20250218T205505Z
UID:115909-1742120100-1742126400@www.templeemanuel.com
SUMMARY:Kitah Gimel (Grade 3)Kabbalat Siddur Ceremony
DESCRIPTION:Please join us for the proud moment when your 3rd grade student (Kitah Gimel) will receive their very own siddur (prayer book). The students have been practicing a beautiful performance they will share with you! Event followed by a celebratory brunch. \nThis program is made possible by the Rosamond and Harvey Grant Fund in Memory of Michele Esta Grant-Epstein
URL:https://www.templeemanuel.com/event/kitah-gimel-kabbalat-siddur-ceremony/
LOCATION:Gann Chapel\, 385 Ward Street\, Newton\, MA\, 02459\, United States
CATEGORIES:Religious School / Chai 385
ATTACH;FMTTYPE=image/png:https://www.templeemanuel.com/wp-content/uploads/2023/02/Kitah-Gimel-Kabbalat-Siddur-Ceremony.png
END:VEVENT
END:VCALENDAR