
BEGIN:VCALENDAR
VERSION:2.0
PRODID:-//Temple Emanuel - ECPv6.15.20//NONSGML v1.0//EN
CALSCALE:GREGORIAN
METHOD:PUBLISH
X-WR-CALNAME:Temple Emanuel
X-ORIGINAL-URL:https://www.templeemanuel.com
X-WR-CALDESC:Events for Temple Emanuel
REFRESH-INTERVAL;VALUE=DURATION:PT1H
X-Robots-Tag:noindex
X-PUBLISHED-TTL:PT1H
BEGIN:VTIMEZONE
TZID:America/New_York
BEGIN:DAYLIGHT
TZOFFSETFROM:-0500
TZOFFSETTO:-0400
TZNAME:EDT
DTSTART:20250309T070000
END:DAYLIGHT
BEGIN:STANDARD
TZOFFSETFROM:-0400
TZOFFSETTO:-0500
TZNAME:EST
DTSTART:20251102T060000
END:STANDARD
BEGIN:DAYLIGHT
TZOFFSETFROM:-0500
TZOFFSETTO:-0400
TZNAME:EDT
DTSTART:20260308T070000
END:DAYLIGHT
BEGIN:STANDARD
TZOFFSETFROM:-0400
TZOFFSETTO:-0500
TZNAME:EST
DTSTART:20261101T060000
END:STANDARD
BEGIN:DAYLIGHT
TZOFFSETFROM:-0500
TZOFFSETTO:-0400
TZNAME:EDT
DTSTART:20270314T070000
END:DAYLIGHT
BEGIN:STANDARD
TZOFFSETFROM:-0400
TZOFFSETTO:-0500
TZNAME:EST
DTSTART:20271107T060000
END:STANDARD
END:VTIMEZONE
BEGIN:VEVENT
DTSTART;TZID=America/New_York:20260519T121500
DTEND;TZID=America/New_York:20260519T140000
DTSTAMP:20260422T220725
CREATED:20250715T134908Z
LAST-MODIFIED:20260421T161235Z
UID:10014601-1779192900-1779199200@www.templeemanuel.com
SUMMARY:L’Chaim
DESCRIPTION:All are welcome to join us on Tuesdays in Reisman Hall! Stay for exercise following our L’CHAIM programs at 2:10pm \nYou must RSVP for each program to Tracy Schneider at tracys120@yahoo.com \n\nApr 28 – Concert with Ruth Rappaport and Jonah Sidman \n12:15pm luncheon generously sponsored by The Residence\, at Boylston Place\, Chestnut Hill\, an LCB senior living community and supported by Gourmet Catering By Andrew \n1pm program \nGuitarist and pianist Ruth Rappaport and fiddler Jonah Sidman will perform an exciting show influenced by klezmer\, Yiddish\, Irish fiddle\, and American musical traditions. \nMay 19 – A Tribute to Soprano Beverly Sills \n12:15pm lunch generously sponsored by a donation from a Temple Emanuel couple and supported by Gourmet Catering By Andrew. \nProgram at 1pm \nFor more than three decades\, coloratura-soprano Beverly Sills captured America’s heart with her silvery voice\, glorious artistry\, irrepressible personality and self-deprecating humor. She demystified opera – and fine arts in general. Her life embodied an archetypal American story of humble origins\, years of struggle\, family tragedy and artistic triumph! \nSpeaker Erika Reitshamer returns to Temple Emanuel. She brings opera to life with the insight\, enthusiasm\, and storytelling flair of someone who has devoted her entire life to the art form. Born and educated in Germany\, she has become one of the Boston area’s most engaging voices on opera\, captivating audiences for decades with her deep knowledge of the repertoire and the legendary singers who shaped it. \nA driving force behind the founding of the Boston Lyric Opera more than 45 years ago\, Ms. Reitshamer has led opera tours across Europe\, served for many years as Vice President of the Boston Wagner Society\, and built a reputation as an inspiring educator. Her most recent program for Temple Emanuel was “The Great Tenors Sing Out” on October 15\, 2025. \nMay 26 – Cantor Elias Rosemberg and Pianist Jeremiah Klarman in concert \n12:15pm lunch generously sponsored by a donation from The Residence at Boylston Place\, an LCB senior living community in Chestnut Hill\, and supported by Gourmet Catering By Andrew. Program at 1pm. Stay for exercise following our L’CHAIM programs at 2:10pm. \nCantor Elias Rosemberg will perform along with Pianist Jeremiah Klarman in a wonderful concert of Cantorial\, Yiddish\, Israeli and Ladino music as well as Broadway Favorites\, and Opera! Not to be missed! \nFriday\, June 5 – Join L’CHAIM for a Shabbat dinner together as a community of Active Older Adults! \n4:30pm concert followed by dinner at 5:15pm in Reisman Hall \nSpecial performance by Kol Emanuel led by Eugenia Gerstein with special guest performance by Cantor Elias Rosemberg. \nYou MUST RSVP to Tracys120@yahoo.com. 70 spots available. \nDinner sponsored by Wingate Senior Living and West River Care and suppoted by Gourmet Catering By Andrew. \n\n \nANNUAL MEMBERSHIP DUES are $18 per person. Please consider making a small donation of appreciation to the L’CHAIM Group. Please mail checks of any donation to Temple Emanuel\, 385 Ward Street\, Newton\, MA 02459\, ATTN: FINANCE. Please make checks payable to TEMPLE EMANUEL. In memo line please write L’CHAIM GROUP. \n\n\n\n\n\n\n\n\n\n 
URL:https://www.templeemanuel.com/event/lchaim/2026-05-19/
LOCATION:Hybrid (In Person and Virtual Options)\, 385 Ward Street\, Newton\, MA\, 02459\, United States
CATEGORIES:Active Older Adults
ATTACH;FMTTYPE=image/png:https://www.templeemanuel.com/wp-content/uploads/2021/12/LChaim.png
END:VEVENT
END:VCALENDAR