
BEGIN:VCALENDAR
VERSION:2.0
PRODID:-//Temple Emanuel - ECPv6.15.20//NONSGML v1.0//EN
CALSCALE:GREGORIAN
METHOD:PUBLISH
X-WR-CALNAME:Temple Emanuel
X-ORIGINAL-URL:https://www.templeemanuel.com
X-WR-CALDESC:Events for Temple Emanuel
REFRESH-INTERVAL;VALUE=DURATION:PT1H
X-Robots-Tag:noindex
X-PUBLISHED-TTL:PT1H
BEGIN:VTIMEZONE
TZID:America/New_York
BEGIN:DAYLIGHT
TZOFFSETFROM:-0500
TZOFFSETTO:-0400
TZNAME:EDT
DTSTART:20250309T070000
END:DAYLIGHT
BEGIN:STANDARD
TZOFFSETFROM:-0400
TZOFFSETTO:-0500
TZNAME:EST
DTSTART:20251102T060000
END:STANDARD
BEGIN:DAYLIGHT
TZOFFSETFROM:-0500
TZOFFSETTO:-0400
TZNAME:EDT
DTSTART:20260308T070000
END:DAYLIGHT
BEGIN:STANDARD
TZOFFSETFROM:-0400
TZOFFSETTO:-0500
TZNAME:EST
DTSTART:20261101T060000
END:STANDARD
BEGIN:DAYLIGHT
TZOFFSETFROM:-0500
TZOFFSETTO:-0400
TZNAME:EDT
DTSTART:20270314T070000
END:DAYLIGHT
BEGIN:STANDARD
TZOFFSETFROM:-0400
TZOFFSETTO:-0500
TZNAME:EST
DTSTART:20271107T060000
END:STANDARD
END:VTIMEZONE
BEGIN:VEVENT
DTSTART;TZID=America/New_York:20260208T140000
DTEND;TZID=America/New_York:20260208T153000
DTSTAMP:20260423T000447
CREATED:20260108T181915Z
LAST-MODIFIED:20260112T143059Z
UID:133184-1770559200-1770564600@www.templeemanuel.com
SUMMARY:Yisod Power Wash
DESCRIPTION:Yisod\, Repair the World\, and Mayyim Hayyim are teaming up to explore the connections between ritual cleanliness and personal hygiene through hands-on service learning. We’ll discuss the Jewish handwashing ritual\, netilat yadayim\, and pack hygiene kits for our neighbors experiencing housing insecurity. Sign up now! \nRegister→
URL:https://www.templeemanuel.com/event/yisod-power-wash/
LOCATION:Reisman Hall\, 385 Ward Street\, Newton\, MA\, 02459\, United States
CATEGORIES:Yisod 20's & 30's
ATTACH;FMTTYPE=image/png:https://www.templeemanuel.com/wp-content/uploads/2026/01/Yisod-Power-Wash-BANNER-2.png
END:VEVENT
END:VCALENDAR