
BEGIN:VCALENDAR
VERSION:2.0
PRODID:-//Temple Emanuel - ECPv6.15.20//NONSGML v1.0//EN
CALSCALE:GREGORIAN
METHOD:PUBLISH
X-ORIGINAL-URL:https://www.templeemanuel.com
X-WR-CALDESC:Events for Temple Emanuel
REFRESH-INTERVAL;VALUE=DURATION:PT1H
X-Robots-Tag:noindex
X-PUBLISHED-TTL:PT1H
BEGIN:VTIMEZONE
TZID:America/New_York
BEGIN:DAYLIGHT
TZOFFSETFROM:-0500
TZOFFSETTO:-0400
TZNAME:EDT
DTSTART:20230312T070000
END:DAYLIGHT
BEGIN:STANDARD
TZOFFSETFROM:-0400
TZOFFSETTO:-0500
TZNAME:EST
DTSTART:20231105T060000
END:STANDARD
BEGIN:DAYLIGHT
TZOFFSETFROM:-0500
TZOFFSETTO:-0400
TZNAME:EDT
DTSTART:20240310T070000
END:DAYLIGHT
BEGIN:STANDARD
TZOFFSETFROM:-0400
TZOFFSETTO:-0500
TZNAME:EST
DTSTART:20241103T060000
END:STANDARD
BEGIN:DAYLIGHT
TZOFFSETFROM:-0500
TZOFFSETTO:-0400
TZNAME:EDT
DTSTART:20250309T070000
END:DAYLIGHT
BEGIN:STANDARD
TZOFFSETFROM:-0400
TZOFFSETTO:-0500
TZNAME:EST
DTSTART:20251102T060000
END:STANDARD
END:VTIMEZONE
BEGIN:VEVENT
DTSTART;TZID=America/New_York:20241202T200000
DTEND;TZID=America/New_York:20241202T213000
DTSTAMP:20260425T081445
CREATED:20230908T180016Z
LAST-MODIFIED:20241203T203607Z
UID:10005408-1733169600-1733175000@www.templeemanuel.com
SUMMARY:Donniel Hartman: Understanding Israel Today and Imagining the Israel of Tomorrow
DESCRIPTION:The politicization of the October 7 tragedy has deepened divisions in Israel and among Jews worldwide. Our Hartman Learning Initiative continues in person with Donniel Hartman\, President of the Shalom Hartman Institute\,  in conversation with Rabbi Michelle Robinson as he reflects on a year of war in Israel and shares how we can work together to imagine a stronger\, more vibrant Israel. \nWatch a Recording Here→ \nUpcoming Hartman Learning Programs: \nTuesday February 25 – Elena Stein Hain \nMonday March 10 – Tal Becker \nTo be scheduled – TE-Hartman Trip 2025 Information Session. Register here! \nLook for recordings of all our online sessions and selected lectures of Hartman scholars at Temple Emanuel here. \nWatch for updated details on this program and all Hartman learning opportunities in our weekly Friday midday Hartman @ Home email. \n 
URL:https://www.templeemanuel.com/event/hartman-learning-with-donniel-hartman/
LOCATION:Rabbi Samuel Chiel Sanctuary\, 385 Ward Street\, Newton\, MA\, 02459\, United States
CATEGORIES:Hartman
ATTACH;FMTTYPE=image/jpeg:https://www.templeemanuel.com/wp-content/uploads/2023/09/Donniel-Hartman_2022_credit-Noam-Feiner_-square.jpg
END:VEVENT
END:VCALENDAR