
BEGIN:VCALENDAR
VERSION:2.0
PRODID:-//Temple Emanuel - ECPv6.15.20//NONSGML v1.0//EN
CALSCALE:GREGORIAN
METHOD:PUBLISH
X-WR-CALNAME:Temple Emanuel
X-ORIGINAL-URL:https://www.templeemanuel.com
X-WR-CALDESC:Events for Temple Emanuel
REFRESH-INTERVAL;VALUE=DURATION:PT1H
X-Robots-Tag:noindex
X-PUBLISHED-TTL:PT1H
BEGIN:VTIMEZONE
TZID:America/New_York
BEGIN:DAYLIGHT
TZOFFSETFROM:-0500
TZOFFSETTO:-0400
TZNAME:EDT
DTSTART:20250309T070000
END:DAYLIGHT
BEGIN:STANDARD
TZOFFSETFROM:-0400
TZOFFSETTO:-0500
TZNAME:EST
DTSTART:20251102T060000
END:STANDARD
BEGIN:DAYLIGHT
TZOFFSETFROM:-0500
TZOFFSETTO:-0400
TZNAME:EDT
DTSTART:20260308T070000
END:DAYLIGHT
BEGIN:STANDARD
TZOFFSETFROM:-0400
TZOFFSETTO:-0500
TZNAME:EST
DTSTART:20261101T060000
END:STANDARD
BEGIN:DAYLIGHT
TZOFFSETFROM:-0500
TZOFFSETTO:-0400
TZNAME:EDT
DTSTART:20270314T070000
END:DAYLIGHT
BEGIN:STANDARD
TZOFFSETFROM:-0400
TZOFFSETTO:-0500
TZNAME:EST
DTSTART:20271107T060000
END:STANDARD
END:VTIMEZONE
BEGIN:VEVENT
DTSTART;TZID=America/New_York:20260612T174500
DTEND;TZID=America/New_York:20260612T181500
DTSTAMP:20260425T231011
CREATED:20250729T194215Z
LAST-MODIFIED:20260313T140434Z
UID:10011589-1781286300-1781288100@www.templeemanuel.com
SUMMARY:A Taste of Shabbat Alive
DESCRIPTION:Join us in the Rabbi Samuel Chiel Sanctuary for a musical Kabbalat Shabbat service filled with singing\, dancing\, and stories\, geared specifically for families with young children from birth to age 5. After services\, we’ll share a festive Shabbat dinner in Adelson Community Hall – a perfect place to meet other young families! \nRegistration appreciated. \nRegister→ \nGenerously supported by the Dr. Trudy Karger Family Education Fund \n\n\n\n\n\n\n\n\n\n 
URL:https://www.templeemanuel.com/event/taste-of-shabbat-alive/2026-06-12/
LOCATION:Rabbi Samuel Chiel Sanctuary\, 385 Ward Street\, Newton\, MA\, 02459\, United States
CATEGORIES:Shabbat,TE Tots
ATTACH;FMTTYPE=image/png:https://www.templeemanuel.com/wp-content/uploads/2023/08/taste-of-shabbat-alive-updated.png
END:VEVENT
BEGIN:VEVENT
DTSTART;TZID=America/New_York:20260612T180000
DTEND;TZID=America/New_York:20260612T220000
DTSTAMP:20260425T231011
CREATED:20231106T173714Z
LAST-MODIFIED:20260423T184018Z
UID:10006268-1781287200-1781301600@www.templeemanuel.com
SUMMARY:Share-a-Shabbat
DESCRIPTION:Share a Shabbat dinner at home with Temple Emanuel members!\nJoin us for our fifth Share-a-Shabbat as members of TE will gather in each others’ homes to light candles\, say Kiddush\, share challah and enjoy Shabbat dinner together. \nHosts and their TE guests will choose one of the following Shabbat experiences: Spend Shabbat dinner with close friends\, get to know acquaintances better\, meet new friends\, or a combination of these choices. \nBoth hosts and guests are welcome to select a blended Shabbat experience by attending Shabbat Alive and then enjoying a Share-a-Shabbat dinner! \nAll hosts will serve pescatarian or vegetarian dinners\, so that everyone\, no matter your level of kashrut\, will be comfortable eating together. \nHosts will let their guests know what time to arrive. \nThe deadline to register is May 13th \nRegister Here to be a Host→ \nRegister Here to be a Guest→ \nQuestions? Please contact us at Share-a-Shabbat@templeemanuel.com or check the FAQ.
URL:https://www.templeemanuel.com/event/share-a-shabbat/
LOCATION:In Person – Other\, MA\, United States
CATEGORIES:Community
ATTACH;FMTTYPE=image/png:https://www.templeemanuel.com/wp-content/uploads/2023/11/ShareaShabbat-Cover-24.png
END:VEVENT
END:VCALENDAR