
BEGIN:VCALENDAR
VERSION:2.0
PRODID:-//Temple Emanuel - ECPv6.15.20//NONSGML v1.0//EN
CALSCALE:GREGORIAN
METHOD:PUBLISH
X-WR-CALNAME:Temple Emanuel
X-ORIGINAL-URL:https://www.templeemanuel.com
X-WR-CALDESC:Events for Temple Emanuel
REFRESH-INTERVAL;VALUE=DURATION:PT1H
X-Robots-Tag:noindex
X-PUBLISHED-TTL:PT1H
BEGIN:VTIMEZONE
TZID:America/New_York
BEGIN:DAYLIGHT
TZOFFSETFROM:-0500
TZOFFSETTO:-0400
TZNAME:EDT
DTSTART:20240310T070000
END:DAYLIGHT
BEGIN:STANDARD
TZOFFSETFROM:-0400
TZOFFSETTO:-0500
TZNAME:EST
DTSTART:20241103T060000
END:STANDARD
BEGIN:DAYLIGHT
TZOFFSETFROM:-0500
TZOFFSETTO:-0400
TZNAME:EDT
DTSTART:20250309T070000
END:DAYLIGHT
BEGIN:STANDARD
TZOFFSETFROM:-0400
TZOFFSETTO:-0500
TZNAME:EST
DTSTART:20251102T060000
END:STANDARD
BEGIN:DAYLIGHT
TZOFFSETFROM:-0500
TZOFFSETTO:-0400
TZNAME:EDT
DTSTART:20260308T070000
END:DAYLIGHT
BEGIN:STANDARD
TZOFFSETFROM:-0400
TZOFFSETTO:-0500
TZNAME:EST
DTSTART:20261101T060000
END:STANDARD
END:VTIMEZONE
BEGIN:VEVENT
DTSTART;TZID=America/New_York:20250907T090000
DTEND;TZID=America/New_York:20250907T100000
DTSTAMP:20260421T003659
CREATED:20210317T203054Z
LAST-MODIFIED:20250808T150005Z
UID:10011597-1757235600-1757239200@www.templeemanuel.com
SUMMARY:Yoga Minyan
DESCRIPTION:With Michelle Silberman Hubbard\, Yoga Instructor  \nSundays mornings | 9 – 10 am  \nOur rabbis taught us that the soul is joined intimately to the body.  The two move together and each can be used in the service of God. In this innovative morning minyan we will be using our bodies to pray\, our voices to chant\, and movement to connect with holiness in a Jewish way.  Awaken your senses as you awaken your soul. Expect an uplifting morning service and a great sweat. No previous Yoga or davening experience necessary. Dress for comfort. Bring a yoga mat or towel\, a small towel\, and water. Time to get up and stretch your body! Grab your mat or towel and join in via Zoom. New participants always welcome!  \nZoom link will be provided upon registration. \nRegister Here→ \nSponsored by Sisterhood Temple Emanuel \n\n\n\n\n\n\n\n\n\n 
URL:https://www.templeemanuel.com/event/yoga-minyan/2025-09-07/
LOCATION:Virtual
CATEGORIES:Active Older Adults,Adult Education,Sisterhood
ATTACH;FMTTYPE=image/jpeg:https://www.templeemanuel.com/wp-content/uploads/2021/03/Fotolia_164082742_Subscription_Monthly_M-1.jpg
END:VEVENT
BEGIN:VEVENT
DTSTART;TZID=America/New_York:20250909T114500
DTEND;TZID=America/New_York:20250909T140000
DTSTAMP:20260421T003659
CREATED:20250715T134908Z
LAST-MODIFIED:20260205T173042Z
UID:10010710-1757418300-1757426400@www.templeemanuel.com
SUMMARY:L’Chaim
DESCRIPTION:All are welcome to join us on Tuesdays in Reisman Hall! Stay for exercise following our L’CHAIM programs at 2:10pm \nYou must RSVP for each program to Tracy Schneider at tracys120@yahoo.com \nFeb 3\, 10\, 17 on Zoom – Jewish Women Portrayed in Film with Debra Block \n6:30pm-7:30pm \nWe recommend watching the following films in advance of each presentation \nSESSION 1: Hester Street (watch here) – Gitl (Carol Kane)\, a young Jewish orthodox woman\, comes to America in the 1890’s only to discover that her husband Jake (Steven Keats) has given up the ways of the old country\, and taken up with a new girlfriend\, and a new life! Gitl faces the New World with strength and grace! \nSESSION 2: Crossing Delancey (watch here)– Izzy Grossman faces two romantic choices reflecting two conflicting aspects of her life…uptown world where she works and the traditional world of her grandmother where Izzy lives on the Lower East Side. In Marjorie Morningstar & Goodbye Columbus\, both women are using their romantic involvement with men to challenge the middle-class values of their parental homes. \nSESSION 3: Today\, the portrayal of Jewish women in film and television is undergoing a shift\, moving away from one-dimensional caricatures toward more nuanced\, self-defined\, and diverse characters. While traditional\, negative stereotypes persist\, the rise of Jewish women in creative roles behind the camera is driving a “renaissance” in representation. We will give examples of these portrayals in films such as Unorthodox (watch here) and in several television programs. \nAbout the facilitator\, Debra Block\, Artistic Director and Creator\, DGB Productions \nDebra Block is the Artistic Director and Creator of DGB Productions. She presents educational programs on film\, theatre and culture to age 55+ senior communities. Debra possesses a strong Jewish identity\, having lived and taught in Israel for two years\, and has directed numerous musical theater productions focusing on Jewish themes. She has taught English and theater at Shaloh House\, a Jewish Day School and has been contracted by various synagogues and Jewish community centers to develop meaningful theatrical experiences. She graduated BA cum laude in psychology with a performing arts minor. After graduating college\, she continued her studies at the Master’s level in the performing arts and in Judaism. \nMar 3 – An Afternoon of Purim Festivities with Master of Ceremonies Rabbi Leslie Tannenwald and Musician Jonah Sidman performing Yiddish Purim songs \n12:15pm lunch and goodies \n12:30-1:10pm Purim Jeopardy with prizes \n1:10-2pm musical performance by Jonah Sidman \nCome prepared to have fun and be silly! Wear a Purim festive tie\, scarf or hat. Leslie will explain the story of Purim. Mishloach Manot gift bags to be handed out supported by a generous donation from a TE family with love. \n\nLunch and goodies are generously sponsored by Esther and Alan Greif\, Eva and Alan Radding\, Marjorie and Barry Afergan\, Esther and Barry Torem\, and Dr Lloyd David\, and supported by Gourmet Catering By Andrew. \nMar 10 – Piano Concert with Rick Scalise \n12:15pm Luncheon anonymously and generously sponsored by a TE family donation and supported by Gourmet Catering By Andrew \n1:00pm Program \nLight Classical selections by Beethoven\, Mozart\, and Gershwin along with some Broadway favorites including Rodgers and Hammerstein. \nMar 17 – Tribute to George and Ira Gershwin\, legendary American songwriting duo\, with Lisa Yves \n12:15pm Luncheon generously sponsored by a TE family donation \n1:00pm Program \nLisa Yves is a highly accomplished musician\, vocalist\, songwriter and mentor with a diverse range of experiences in the music industry. As a singer and songwriter\, Lisa has released over 10 albums of original music across various genres. \nMar 31 – The Genius of Steven Sondheim with Debra Block \n12:15pm Luncheon generously sponsored by The Residence at Boylston Place\, Chestnut Hill\, an LCB senior living community and supported by Gourmet Catering By Andrew \n12:45pm-2:00pm Program \nAn American Composer and Lyricist\, Stephen Joshua Sondheim\, is regarded as one of the most important figures in 20th Century Musical Theatre. We will discuss his contribution to West Side Story\, Gypsy\, Company and Sunday in the Park with George. \nApr 21 – American Jewish Music The Golden Years with Hal Slifer of Chagigah \n12:15pm luncheon generously sponsored by a TE family and supported by Gourmet Catering By Andrew \n1pm program \nHal Slifer’s multimedia presentation explores the rich history of American Jewish music from the 1930s to today and illustrates the key moments\, artists and musical styles that have become the musical soundtrack of our lives. \nApr 28 – Concert with Ruth Rappaport and Jonah Sidman \n12:15pm luncheon generously sponsored by The Residence\, at Boylston Place\, Chestnut Hill\, an LCB senior living community and supported by Gourmet Catering By Andrew \n1pm program \nGuitarist and pianist Ruth Rappaport and fiddler Jonah Sidman will perform an exciting show influenced by klezmer\, Yiddish\, Irish fiddle\, and American musical traditions. \n\n \nANNUAL MEMBERSHIP DUES are $18 per person. Please consider making a small donation of appreciation to the L’CHAIM Group. Please mail checks of any donation to Temple Emanuel\, 385 Ward Street\, Newton\, MA 02459\, ATTN: FINANCE. Please make checks payable to TEMPLE EMANUEL. In memo line please write L’CHAIM GROUP. \n\n\n\n\n\n\n\n\n\n 
URL:https://www.templeemanuel.com/event/lchaim/2025-09-09/
LOCATION:Hybrid (In Person and Virtual Options)\, 385 Ward Street\, Newton\, MA\, 02459\, United States
CATEGORIES:Active Older Adults
ATTACH;FMTTYPE=image/png:https://www.templeemanuel.com/wp-content/uploads/2021/12/LChaim.png
END:VEVENT
BEGIN:VEVENT
DTSTART;TZID=America/New_York:20250909T141000
DTEND;TZID=America/New_York:20250909T151000
DTSTAMP:20260421T003659
CREATED:20250717T190658Z
LAST-MODIFIED:20260205T165720Z
UID:10011458-1757427000-1757430600@www.templeemanuel.com
SUMMARY:Total Body Workout
DESCRIPTION:A class for all levels. 20 minutes basic fun cardio dance\, 20 minutes body sculpting/conditioning & 20 minutes stretch and balance. \nNEW WINTER WORKOUT! Tuesdays 1pm: \nJan 6\, 13\, 27; Feb 3\, 5\, 10\, 17 \nSpring 2026 dates: March 3\, 10\, 17\, 31; April 7\, 21\, 28; May 19\, 26; June 2\, 9 \nled by Carole Rodenstein on March 3\, 10 \nled by Kim Bartlett on March 17\, 31\, April 7\, 28 \nLed by Jill Meyer on April 21\, May 19\, 26\, June 9 \nNo RSVP needed. All are welcome. \nThese Total Body Workout exercise classes will follow L’CHAIM programs. \nWe are grateful to Village Bank and the Temple Emanuel Senior Fund for supporting Total Body Workout and Adapted Seated Exercises this season.
URL:https://www.templeemanuel.com/event/total-body-workout-3-2/2025-09-09/
LOCATION:Reisman Hall\, 385 Ward Street\, Newton\, MA\, 02459\, United States
CATEGORIES:Active Older Adults
ATTACH;FMTTYPE=image/png:https://www.templeemanuel.com/wp-content/uploads/2021/09/total-body-workout-cover.png
END:VEVENT
BEGIN:VEVENT
DTSTART;TZID=America/New_York:20250910T183000
DTEND;TZID=America/New_York:20250910T193000
DTSTAMP:20260421T003659
CREATED:20210901T174004Z
LAST-MODIFIED:20250717T184729Z
UID:10011448-1757529000-1757532600@www.templeemanuel.com
SUMMARY:Caregiver Support Group
DESCRIPTION:Wednesday Evenings 6:30pm – 7:30pm on Zoom with Emily Grossman.  There is no cost to attend- but registration is required. This series is open to Temple Emanuel members as well as the greater community. Contact Tracy Schneider at Tracys120@yahoo.com for the zoom link and registration.   \nDisclaimer: We ask that all dialogue and information shared during the group discussion remain confidential to the participants.\nClass Dates: Sept 10\, Oct 22\, Nov 5\, Dec 3\, Jan 7\, Feb 4\, March 4\, April 15\, May 20\, June 10 \nWe welcome Emily Grossman to lead our group this coming season. Emily brings a wealth of knowledge and compassion to support the spouses and partners of those who suffer from dementia. \nEmily S. Grossman\, MSW\, CMC\, CDP\, is the founder of NextPath Care Management\, with more than 23 years of experience in large and small healthcare organizations. Emily’s extensive experience in all levels of senior care\, including home and community-based services as well as institutional and insurance-based resources\, has formed the foundation of her practice. She has delivered seminars on housing and care options\, and how best to plan for the future\, as well as contributed to various newsletters and publications. Emily earned a B.A. from Tufts University and a Master’s of Social Work with a clinical concentration in Older Adults and Families from Boston College\, where she was a Litwak Fellow. She completed her graduate training at Hebrew Senior Life Continuing Care Retirement Community Newbridge on the Charles in their Long-Term Care setting and with Jewish Family Services of Metro West. \nCaregiver Support Group is proudly co-presented by Temple Emanuel Senior Fund and the Deanna and Sidney Wolk Center for Memory Health at Hebrew SeniorLife.   \n\n\n\n\n\n\n\n\n\n 
URL:https://www.templeemanuel.com/event/te-caregiver-support-group/2025-09-10/
LOCATION:Virtual
CATEGORIES:Active Older Adults,Support,Virtual Programming
ATTACH;FMTTYPE=image/png:https://www.templeemanuel.com/wp-content/uploads/2021/09/Temple-Emanuels-Caregiver-Support-Group.png
END:VEVENT
BEGIN:VEVENT
DTSTART;TZID=America/New_York:20250911T100000
DTEND;TZID=America/New_York:20250911T110000
DTSTAMP:20260421T003659
CREATED:20250717T195249Z
LAST-MODIFIED:20251204T205326Z
UID:10012398-1757584800-1757588400@www.templeemanuel.com
SUMMARY:Seated Zumba Gold
DESCRIPTION:  \n\n\n\nWith Ketty Rosenfeld \nThursday mornings \nSession Dates: Sept 11\, 25; Oct 23\, 30; Nov 6\, 13\, 20; Dec 4\, 25; Jan 8\, 22\, 29; Feb 5\, 12\, 19\, 26; March 5\, 12\, 19; April 16\, 23\, 30; May 21\, 28 \nJoin us Online via Zoom  \nMeeting ID: 871 2457 6849 \nWe are grateful for the Temple Emanuel Senior Fund for supporting Zumba Gold this season. No RSVP needed – No Charge – All are welcome.  Questions? Please contact Tracy Schneider.
URL:https://www.templeemanuel.com/event/seated-zumba-gold-2/2025-09-11/
LOCATION:Virtual
CATEGORIES:Active Older Adults,Virtual Programming
ATTACH;FMTTYPE=image/png:https://www.templeemanuel.com/wp-content/uploads/2021/03/zumba-gold-.png
END:VEVENT
BEGIN:VEVENT
DTSTART;TZID=America/New_York:20250911T183000
DTEND;TZID=America/New_York:20250911T183000
DTSTAMP:20260421T003659
CREATED:20250729T145646Z
LAST-MODIFIED:20260206T151620Z
UID:10011565-1757615400-1757615400@www.templeemanuel.com
SUMMARY:Adult Child Support Group
DESCRIPTION:Thursday evenings | 6:30 – 7:30 pm on Zoom \nAre you caring for an aging parent? Are you looking for local resources and support? \nJoin us for monthly discussions on all topics about managing the care of our parents and maintaining our own expectations. We will have guest speakers set up by the team at Adelaide\, a Benchmark community. \nRegister Here→ \nFor the best experience\, participants are encouraged to attend regularly. There is no cost to attend- but registration is required. Questions? Please contact Tracy Schneider. \nThis series is sponsored by Adelaide and co-presented by TE senior fund. \n\n\n\n\n\n\n\n\n\n 
URL:https://www.templeemanuel.com/event/adult-child-support-group/2025-09-11/
LOCATION:Virtual
CATEGORIES:Active Older Adults,Adult Education,Support,Virtual Programming
ATTACH;FMTTYPE=image/png:https://www.templeemanuel.com/wp-content/uploads/2021/02/Adult-Children-Caring-for-or-Managing-the-care-of-an-aging-parent.png
END:VEVENT
BEGIN:VEVENT
DTSTART;TZID=America/New_York:20250925T100000
DTEND;TZID=America/New_York:20250925T110000
DTSTAMP:20260421T003659
CREATED:20250717T195249Z
LAST-MODIFIED:20251204T205326Z
UID:10012399-1758794400-1758798000@www.templeemanuel.com
SUMMARY:Seated Zumba Gold
DESCRIPTION:  \n\n\n\nWith Ketty Rosenfeld \nThursday mornings \nSession Dates: Sept 11\, 25; Oct 23\, 30; Nov 6\, 13\, 20; Dec 4\, 25; Jan 8\, 22\, 29; Feb 5\, 12\, 19\, 26; March 5\, 12\, 19; April 16\, 23\, 30; May 21\, 28 \nJoin us Online via Zoom  \nMeeting ID: 871 2457 6849 \nWe are grateful for the Temple Emanuel Senior Fund for supporting Zumba Gold this season. No RSVP needed – No Charge – All are welcome.  Questions? Please contact Tracy Schneider.
URL:https://www.templeemanuel.com/event/seated-zumba-gold-2/2025-09-25/
LOCATION:Virtual
CATEGORIES:Active Older Adults,Virtual Programming
ATTACH;FMTTYPE=image/png:https://www.templeemanuel.com/wp-content/uploads/2021/03/zumba-gold-.png
END:VEVENT
END:VCALENDAR