
BEGIN:VCALENDAR
VERSION:2.0
PRODID:-//Temple Emanuel - ECPv6.15.20//NONSGML v1.0//EN
CALSCALE:GREGORIAN
METHOD:PUBLISH
X-ORIGINAL-URL:https://www.templeemanuel.com
X-WR-CALDESC:Events for Temple Emanuel
REFRESH-INTERVAL;VALUE=DURATION:PT1H
X-Robots-Tag:noindex
X-PUBLISHED-TTL:PT1H
BEGIN:VTIMEZONE
TZID:America/New_York
BEGIN:DAYLIGHT
TZOFFSETFROM:-0500
TZOFFSETTO:-0400
TZNAME:EDT
DTSTART:20250309T070000
END:DAYLIGHT
BEGIN:STANDARD
TZOFFSETFROM:-0400
TZOFFSETTO:-0500
TZNAME:EST
DTSTART:20251102T060000
END:STANDARD
BEGIN:DAYLIGHT
TZOFFSETFROM:-0500
TZOFFSETTO:-0400
TZNAME:EDT
DTSTART:20260308T070000
END:DAYLIGHT
BEGIN:STANDARD
TZOFFSETFROM:-0400
TZOFFSETTO:-0500
TZNAME:EST
DTSTART:20261101T060000
END:STANDARD
BEGIN:DAYLIGHT
TZOFFSETFROM:-0500
TZOFFSETTO:-0400
TZNAME:EDT
DTSTART:20270314T070000
END:DAYLIGHT
BEGIN:STANDARD
TZOFFSETFROM:-0400
TZOFFSETTO:-0500
TZNAME:EST
DTSTART:20271107T060000
END:STANDARD
END:VTIMEZONE
BEGIN:VEVENT
DTSTART;TZID=America/New_York:20260611T183000
DTEND;TZID=America/New_York:20260611T193000
DTSTAMP:20260423T071713
CREATED:20250729T145646Z
LAST-MODIFIED:20260206T151620Z
UID:10011574-1781202600-1781206200@www.templeemanuel.com
SUMMARY:Adult Child Support Group
DESCRIPTION:Thursday evenings | 6:30 – 7:30 pm on Zoom \nAre you caring for an aging parent? Are you looking for local resources and support? \nJoin us for monthly discussions on all topics about managing the care of our parents and maintaining our own expectations. We will have guest speakers set up by the team at Adelaide\, a Benchmark community. \nRegister Here→ \nFor the best experience\, participants are encouraged to attend regularly. There is no cost to attend- but registration is required. Questions? Please contact Tracy Schneider. \nThis series is sponsored by Adelaide and co-presented by TE senior fund. \n\n\n\n\n\n\n\n\n\n 
URL:https://www.templeemanuel.com/event/adult-child-support-group/2026-06-11/
LOCATION:Virtual
CATEGORIES:Active Older Adults,Adult Education,Support,Virtual Programming
ATTACH;FMTTYPE=image/png:https://www.templeemanuel.com/wp-content/uploads/2021/02/Adult-Children-Caring-for-or-Managing-the-care-of-an-aging-parent.png
END:VEVENT
BEGIN:VEVENT
DTSTART;TZID=America/New_York:20260615T181500
DTEND;TZID=America/New_York:20260615T191500
DTSTAMP:20260423T071713
CREATED:20260421T201057Z
LAST-MODIFIED:20260421T201317Z
UID:10014612-1781547300-1781550900@www.templeemanuel.com
SUMMARY:You\, Too\, Can Cantillate: Esther Edition
DESCRIPTION:In this final trope class this year\, we will explore the wild Cantillation melodies associated with the equally wild story of Purim. \nA reading knowledge of Hebrew and some knowledge of trope is recommended. \nClass Dates: June 1\, 8\, 15 \nRegister→
URL:https://www.templeemanuel.com/event/you-too-can-cantillate-esther-edition/2026-06-15/
LOCATION:Slater Conference Room\, 385 Ward Street\, Newton\, MA\, 02459\, United States
CATEGORIES:Active Older Adults,Adult Education,Community
ATTACH;FMTTYPE=image/jpeg:https://www.templeemanuel.com/wp-content/uploads/2026/04/you-can-cantillate-chanting-the-festival-megilot-2.jpg
END:VEVENT
END:VCALENDAR