
BEGIN:VCALENDAR
VERSION:2.0
PRODID:-//Temple Emanuel - ECPv6.15.20//NONSGML v1.0//EN
CALSCALE:GREGORIAN
METHOD:PUBLISH
X-WR-CALNAME:Temple Emanuel
X-ORIGINAL-URL:https://www.templeemanuel.com
X-WR-CALDESC:Events for Temple Emanuel
REFRESH-INTERVAL;VALUE=DURATION:PT1H
X-Robots-Tag:noindex
X-PUBLISHED-TTL:PT1H
BEGIN:VTIMEZONE
TZID:America/New_York
BEGIN:DAYLIGHT
TZOFFSETFROM:-0500
TZOFFSETTO:-0400
TZNAME:EDT
DTSTART:20250309T070000
END:DAYLIGHT
BEGIN:STANDARD
TZOFFSETFROM:-0400
TZOFFSETTO:-0500
TZNAME:EST
DTSTART:20251102T060000
END:STANDARD
BEGIN:DAYLIGHT
TZOFFSETFROM:-0500
TZOFFSETTO:-0400
TZNAME:EDT
DTSTART:20260308T070000
END:DAYLIGHT
BEGIN:STANDARD
TZOFFSETFROM:-0400
TZOFFSETTO:-0500
TZNAME:EST
DTSTART:20261101T060000
END:STANDARD
BEGIN:DAYLIGHT
TZOFFSETFROM:-0500
TZOFFSETTO:-0400
TZNAME:EDT
DTSTART:20270314T070000
END:DAYLIGHT
BEGIN:STANDARD
TZOFFSETFROM:-0400
TZOFFSETTO:-0500
TZNAME:EST
DTSTART:20271107T060000
END:STANDARD
END:VTIMEZONE
BEGIN:VEVENT
DTSTART;TZID=America/New_York:20260319T093000
DTEND;TZID=America/New_York:20260319T103000
DTSTAMP:20260425T093907
CREATED:20250812T155358Z
LAST-MODIFIED:20250915T143237Z
UID:10011641-1773912600-1773916200@www.templeemanuel.com
SUMMARY:Torah for our Times
DESCRIPTION:With Rabbi Michelle Robinson\nWhile some of the difficulties we face today are new\, grappling with an uncertain world is an age-old challenge. Our Jewish tradition offers us a timeless toolbox of traditional texts that offer us ancient wisdom we can apply to our modern challenges. Join us each Thursday morning as we grapple with the big questions of who we are and how we might craft a life worth living. \nNEW THIS YEAR: Each week we explore a compelling story from the Talmud through the eyes of commentators whose insights can spark our own. \nOur class takes place on zoom – whether you’re in Newton\, New York\, Nevada\, or anywhere else around the world\, come learn with us! \nRegister and join us on Zoom here.  \nView the 2025-26 calendar HERE→
URL:https://www.templeemanuel.com/event/torah-for-our-times/2026-03-19/
LOCATION:Virtual
CATEGORIES:Adult Education,Featured,Virtual Programming
ATTACH;FMTTYPE=image/png:https://www.templeemanuel.com/wp-content/uploads/2021/03/Torah-for-our-Times-website.png
END:VEVENT
BEGIN:VEVENT
DTSTART;TZID=America/New_York:20260319T170000
DTEND;TZID=America/New_York:20260319T180000
DTSTAMP:20260425T093907
CREATED:20251003T190413Z
LAST-MODIFIED:20251003T190536Z
UID:10012347-1773939600-1773943200@www.templeemanuel.com
SUMMARY:Modern Spoken Hebrew III
DESCRIPTION:Spoken Modern Hebrew: Everyday Language for Life and Legacy \nThis continuing course welcomes all learners at an equivalent level. Together\, we read\, write\, speak\, and listen in Hebrew—building practical skills for everyday life and deepening our connection to the language. \nIt’s a golden opportunity to model Hebrew for our children and grandchildren\, while also supporting cognitive health and brain function. \nNewcomers: We’d love to welcome you! To assess your level and join the course\, please reach out to Sigalit. \nSession Dates\nSession 1: Oct 16\, 23\, 30; Nov 6\, 13\, 20; Dec 4\nSession 2: Dec 11\, 18; Jan 8\, 15\, 22\, 29; Feb 5\nSession 3: Feb 12\, 26; Mar 5\, 12\, 19\, 26; Apr 16\nSession 4: Apr 23\, 30; May 4\, 14\, 28; June 4\, 11 \nRegister→ \n 
URL:https://www.templeemanuel.com/event/modern-spoken-hebrew-iii/2026-03-19/
LOCATION:Virtual
CATEGORIES:Adult Education,Hebrew Learning
ATTACH;FMTTYPE=image/png:https://www.templeemanuel.com/wp-content/uploads/2025/10/Modern-Hebrew-III.png
END:VEVENT
BEGIN:VEVENT
DTSTART;TZID=America/New_York:20260319T200000
DTEND;TZID=America/New_York:20260319T210000
DTSTAMP:20260425T093907
CREATED:20260205T150429Z
LAST-MODIFIED:20260205T184230Z
UID:10013079-1773950400-1773954000@www.templeemanuel.com
SUMMARY:Bob Dylan's Jewish Roots with Instructor John Clark
DESCRIPTION:Bob Dylan is arguably the single-most important figure in American popular music in the second half of the 20th century\, a point made emphatically when he received the 2016 Nobel Prize for Literature. Though scholars had approached his work as serious poetry for decades\, few had considered the matter of how Dylan’s Jewish heritage and upbringing affected his creative output. With help from all the critical and analytical writing about Dylan’s Jewishness\, we will explore selected works of this enigmatic singer/songwriter through the lens of midrash\, of the prophetic tradition\, Yiddish humor and the past 100 years of Jewish-American songwriting. This presentation will include music and video clips and Dylan’s own words to tell the story. Featured songs: “When the Ship Comes In”\, “Forever Young”\, “Father of Night”\, “I Pity the Poor Immigrant”\, “One More Cup of Coffee”\, “Neighborhood Bully”\, and “Hava Nagila”. \nPlease Note: This program is for Temple Emanuel members only \nRegister→ \nAbout John Clark \nBorn and raised in Ohio\, John taught adult education for twenty years for Emory University and Mercer University in Atlanta\, creating classes on Fifties\, Sixties and American Roots music and a series called Lyrics as Literature. From 2008-2014 he was also a high school history and English teacher. Since moving to Boston in 2014\, he has taught adult and community education for five different programs\, including Brandeis\, Tufts and Cambridge. In 2025 he presented 380 American Music history lectures for senior living communities and Councils on Aging in the Boston area. John boasts a combined record and CD collection of over 8\,000 recordings.
URL:https://www.templeemanuel.com/event/bob-dylans-jewish-roots-with-instructor-john-clark/
LOCATION:Gann Chapel\, 385 Ward Street\, Newton\, MA\, 02459\, United States
CATEGORIES:Active Older Adults,Adult Education,Community,Livestream,Music
ATTACH;FMTTYPE=image/png:https://www.templeemanuel.com/wp-content/uploads/2026/02/Bob-Dylans-jewish-roots-1.png
END:VEVENT
END:VCALENDAR