
BEGIN:VCALENDAR
VERSION:2.0
PRODID:-//Temple Emanuel - ECPv6.15.20//NONSGML v1.0//EN
CALSCALE:GREGORIAN
METHOD:PUBLISH
X-WR-CALNAME:Temple Emanuel
X-ORIGINAL-URL:https://www.templeemanuel.com
X-WR-CALDESC:Events for Temple Emanuel
REFRESH-INTERVAL;VALUE=DURATION:PT1H
X-Robots-Tag:noindex
X-PUBLISHED-TTL:PT1H
BEGIN:VTIMEZONE
TZID:America/New_York
BEGIN:DAYLIGHT
TZOFFSETFROM:-0500
TZOFFSETTO:-0400
TZNAME:EDT
DTSTART:20250309T070000
END:DAYLIGHT
BEGIN:STANDARD
TZOFFSETFROM:-0400
TZOFFSETTO:-0500
TZNAME:EST
DTSTART:20251102T060000
END:STANDARD
BEGIN:DAYLIGHT
TZOFFSETFROM:-0500
TZOFFSETTO:-0400
TZNAME:EDT
DTSTART:20260308T070000
END:DAYLIGHT
BEGIN:STANDARD
TZOFFSETFROM:-0400
TZOFFSETTO:-0500
TZNAME:EST
DTSTART:20261101T060000
END:STANDARD
BEGIN:DAYLIGHT
TZOFFSETFROM:-0500
TZOFFSETTO:-0400
TZNAME:EDT
DTSTART:20270314T070000
END:DAYLIGHT
BEGIN:STANDARD
TZOFFSETFROM:-0400
TZOFFSETTO:-0500
TZNAME:EST
DTSTART:20271107T060000
END:STANDARD
END:VTIMEZONE
BEGIN:VEVENT
DTSTART;TZID=America/New_York:20260505T200000
DTEND;TZID=America/New_York:20260505T213000
DTSTAMP:20260425T100429
CREATED:20260325T193738Z
LAST-MODIFIED:20260325T194139Z
UID:10013581-1778011200-1778016600@www.templeemanuel.com
SUMMARY:Brotherhood Farewell Lag B’Omer Whiskey Tasting
DESCRIPTION:On Tuesday\, May 5th\, as we bid farewell to Lag B’Omer\, join us for an evening of discovery at a special whiskey tasting event. \nJoin Pablo Goldbarg\, founder of Catador Itinerante\, for six rare world whiskies from Germany\, Austria\, and the Netherlands\, each with its own story.  We’ll explore how casks chosen for character and potential become bottled reality in Massachusetts. Pablo brings the anecdotes that come with the hunt\, the travel\, and the unexpected moments. \nA selection of snacks will accompany this experience. This event is for Brotherhood members only. \nCost: $18 \nRegister→
URL:https://www.templeemanuel.com/event/brotherhood-farewell-lag-bomer-whiskey-tasting/
LOCATION:Reisman Hall\, 385 Ward Street\, Newton\, MA\, 02459\, United States
CATEGORIES:Brotherhood
ATTACH;FMTTYPE=image/jpeg:https://www.templeemanuel.com/wp-content/uploads/2026/03/brotherhood-lag-bomer-whiskey-tasting.jpg
END:VEVENT
END:VCALENDAR