
BEGIN:VCALENDAR
VERSION:2.0
PRODID:-//Temple Emanuel - ECPv6.15.20//NONSGML v1.0//EN
CALSCALE:GREGORIAN
METHOD:PUBLISH
X-ORIGINAL-URL:https://www.templeemanuel.com
X-WR-CALDESC:Events for Temple Emanuel
REFRESH-INTERVAL;VALUE=DURATION:PT1H
X-Robots-Tag:noindex
X-PUBLISHED-TTL:PT1H
BEGIN:VTIMEZONE
TZID:America/New_York
BEGIN:DAYLIGHT
TZOFFSETFROM:-0500
TZOFFSETTO:-0400
TZNAME:EDT
DTSTART:20220313T070000
END:DAYLIGHT
BEGIN:STANDARD
TZOFFSETFROM:-0400
TZOFFSETTO:-0500
TZNAME:EST
DTSTART:20221106T060000
END:STANDARD
BEGIN:DAYLIGHT
TZOFFSETFROM:-0500
TZOFFSETTO:-0400
TZNAME:EDT
DTSTART:20230312T070000
END:DAYLIGHT
BEGIN:STANDARD
TZOFFSETFROM:-0400
TZOFFSETTO:-0500
TZNAME:EST
DTSTART:20231105T060000
END:STANDARD
BEGIN:DAYLIGHT
TZOFFSETFROM:-0500
TZOFFSETTO:-0400
TZNAME:EDT
DTSTART:20240310T070000
END:DAYLIGHT
BEGIN:STANDARD
TZOFFSETFROM:-0400
TZOFFSETTO:-0500
TZNAME:EST
DTSTART:20241103T060000
END:STANDARD
END:VTIMEZONE
BEGIN:VEVENT
DTSTART;TZID=America/New_York:20230308T200000
DTEND;TZID=America/New_York:20230308T210000
DTSTAMP:20260425T063739
CREATED:20230222T174213Z
LAST-MODIFIED:20230222T174213Z
UID:10003371-1678305600-1678309200@www.templeemanuel.com
SUMMARY:TEkun Meeting
DESCRIPTION:Join our TEkun group in Clasroom 23 as we plan programming for the year! In our past two meetings\, we’ve focused on our priorities and on the composition of our group (now we are a united group including both the Social Justice Advisory Board and the Social Action Committee). In this meeting\, we are going to be identifying the projects and programs we would like to run this year. It’s an opportunity to meet new friends\, to connect with old friends\, and to make a difference with your synagogue community. \n 
URL:https://www.templeemanuel.com/event/tekun-meeting-3/
LOCATION:In Person – Temple Emanuel\, 385 Ward Street\, Newton\, MA\, 02459\, United States
CATEGORIES:Committee Meeting,Community,TEkun
ATTACH;FMTTYPE=image/png:https://www.templeemanuel.com/wp-content/uploads/2022/12/TEkun-Racial-Justice-Facebook-Event-Cover.png
END:VEVENT
BEGIN:VEVENT
DTSTART;TZID=America/New_York:20230209T200000
DTEND;TZID=America/New_York:20230209T200000
DTSTAMP:20260425T063739
CREATED:20230209T192003Z
LAST-MODIFIED:20230209T192003Z
UID:10002854-1675972800-1675972800@www.templeemanuel.com
SUMMARY:Tekun Meeting
DESCRIPTION:We had our first meeting of 2023 a few weeks ago and picked a few areas of focus for our work together this year:\n\nGun violence prevention\nAffordable Housing\nHealth Care Advocacy and Support\n\nPlease join us this Thursday at 8:00 PM in Room 22 for our second meeting!\n \nThis time\, we’ll be thinking about how we can best address these issues and about the role of our Social Justice Advisory Board and our Social Action Committees in supporting this work. This is a perfect place to connect with other members around social justice issues\, to learn together about what’s already happening in our community\, and to begin to do the important work of TEkun Olam together!
URL:https://www.templeemanuel.com/event/tekun-meeting-2/
LOCATION:In Person – Temple Emanuel\, 385 Ward Street\, Newton\, MA\, 02459\, United States
CATEGORIES:Committee Meeting,Community
ATTACH;FMTTYPE=image/png:https://www.templeemanuel.com/wp-content/uploads/2022/12/TEkun-Racial-Justice-Facebook-Event-Cover.png
END:VEVENT
END:VCALENDAR