
BEGIN:VCALENDAR
VERSION:2.0
PRODID:-//Temple Emanuel - ECPv6.15.20//NONSGML v1.0//EN
CALSCALE:GREGORIAN
METHOD:PUBLISH
X-WR-CALNAME:Temple Emanuel
X-ORIGINAL-URL:https://www.templeemanuel.com
X-WR-CALDESC:Events for Temple Emanuel
REFRESH-INTERVAL;VALUE=DURATION:PT1H
X-Robots-Tag:noindex
X-PUBLISHED-TTL:PT1H
BEGIN:VTIMEZONE
TZID:America/New_York
BEGIN:DAYLIGHT
TZOFFSETFROM:-0500
TZOFFSETTO:-0400
TZNAME:EDT
DTSTART:20250309T070000
END:DAYLIGHT
BEGIN:STANDARD
TZOFFSETFROM:-0400
TZOFFSETTO:-0500
TZNAME:EST
DTSTART:20251102T060000
END:STANDARD
BEGIN:DAYLIGHT
TZOFFSETFROM:-0500
TZOFFSETTO:-0400
TZNAME:EDT
DTSTART:20260308T070000
END:DAYLIGHT
BEGIN:STANDARD
TZOFFSETFROM:-0400
TZOFFSETTO:-0500
TZNAME:EST
DTSTART:20261101T060000
END:STANDARD
BEGIN:DAYLIGHT
TZOFFSETFROM:-0500
TZOFFSETTO:-0400
TZNAME:EDT
DTSTART:20270314T070000
END:DAYLIGHT
BEGIN:STANDARD
TZOFFSETFROM:-0400
TZOFFSETTO:-0500
TZNAME:EST
DTSTART:20271107T060000
END:STANDARD
END:VTIMEZONE
BEGIN:VEVENT
DTSTART;TZID=America/New_York:20260521T173000
DTEND;TZID=America/New_York:20260521T183000
DTSTAMP:20260421T003646
CREATED:20220513T173934Z
LAST-MODIFIED:20260416T160437Z
UID:10002578-1779384600-1779388200@www.templeemanuel.com
SUMMARY:Teen Tikkun
DESCRIPTION:Grades 8-12\nTikkun Leil Shavuot with a teen twist! Join other teens and Jon Tatelman and Wayne for dinner and discussion while we eat. Then all teens are invited to attend the keynote address with the congregation and dessert after the speaker in the Solomon Youth Lounge. Let’s learn and enjoy the holiday together! \nNo cost for dinner and no RSVP needed.
URL:https://www.templeemanuel.com/event/teen-tikkun/
LOCATION:In Person – Temple Emanuel\, 385 Ward Street\, Newton\, MA\, 02459\, United States
CATEGORIES:Community,Shavuot,Youth/TE Teens
ATTACH;FMTTYPE=image/png:https://www.templeemanuel.com/wp-content/uploads/2022/05/teen-tikkun.png
END:VEVENT
BEGIN:VEVENT
DTSTART;TZID=America/New_York:20260521T183000
DTEND;TZID=America/New_York:20260522T013000
DTSTAMP:20260421T003646
CREATED:20220513T175210Z
LAST-MODIFIED:20260414T210434Z
UID:10002583-1779388200-1779413400@www.templeemanuel.com
SUMMARY:Tikkun Leil Shavuot - An Evening of Study Sessions\, Food and More
DESCRIPTION:An Evening of Study Sessions\, Food and More\nTikkun Leil Shavuot is about immersing ourselves in the wisdom of Torah as a way of re-enacting the revelation that took place on Mount Sinai. Join us for a full evening of learning\, beginning with a delicious community dinner and followed by community-wide learning opportunities taught by guest scholars and community members. This evening is generously sponsored by the Ruth and Ron Silberstein Fund. \nKeynote Speaker: Joshua Foer\nAuthor and social entrepreneur Joshua Foer is the co-founder of several initiatives to make Jewish learning and cultural exploration accessible worldwide\, including Sefaria\, the open-access library of Jewish texts\, Lehrhaus\, a community hub in Somerville\, the Jewish film and TV production company Leviathan\, and the design competition Sukkah City. He is also the co-founder of Atlas Obscura and author of Moonwalking with Einstein\, an international bestseller published in 37 languages. Josh was recently named one of the 50 most innovative Jews of the last 50 years in Moment Magazine. \nWatch on Livestream! \nView the learning schedule here \nRegistration coming soon! \nTikkun Leil Shavuot is a Joint Venture of Temple Emanuel and Minyan Ma’or
URL:https://www.templeemanuel.com/event/tikkun-leil-shavuot-2026/
LOCATION:Hybrid (In Person and Virtual Options)\, 385 Ward Street\, Newton\, MA\, 02459\, United States
CATEGORIES:Community,Livestream,Shavuot
ATTACH;FMTTYPE=image/png:https://www.templeemanuel.com/wp-content/uploads/2022/05/Shavuot-Graphics-2024-5.png
END:VEVENT
END:VCALENDAR