
BEGIN:VCALENDAR
VERSION:2.0
PRODID:-//Temple Emanuel - ECPv6.15.20//NONSGML v1.0//EN
CALSCALE:GREGORIAN
METHOD:PUBLISH
X-ORIGINAL-URL:https://www.templeemanuel.com
X-WR-CALDESC:Events for Temple Emanuel
REFRESH-INTERVAL;VALUE=DURATION:PT1H
X-Robots-Tag:noindex
X-PUBLISHED-TTL:PT1H
BEGIN:VTIMEZONE
TZID:America/New_York
BEGIN:DAYLIGHT
TZOFFSETFROM:-0500
TZOFFSETTO:-0400
TZNAME:EDT
DTSTART:20250309T070000
END:DAYLIGHT
BEGIN:STANDARD
TZOFFSETFROM:-0400
TZOFFSETTO:-0500
TZNAME:EST
DTSTART:20251102T060000
END:STANDARD
BEGIN:DAYLIGHT
TZOFFSETFROM:-0500
TZOFFSETTO:-0400
TZNAME:EDT
DTSTART:20260308T070000
END:DAYLIGHT
BEGIN:STANDARD
TZOFFSETFROM:-0400
TZOFFSETTO:-0500
TZNAME:EST
DTSTART:20261101T060000
END:STANDARD
BEGIN:DAYLIGHT
TZOFFSETFROM:-0500
TZOFFSETTO:-0400
TZNAME:EDT
DTSTART:20270314T070000
END:DAYLIGHT
BEGIN:STANDARD
TZOFFSETFROM:-0400
TZOFFSETTO:-0500
TZNAME:EST
DTSTART:20271107T060000
END:STANDARD
END:VTIMEZONE
BEGIN:VEVENT
DTSTART;TZID=America/New_York:20260605T183000
DTEND;TZID=America/New_York:20260605T203000
DTSTAMP:20260420T195828
CREATED:20231128T204425Z
LAST-MODIFIED:20260414T160142Z
UID:10006617-1780684200-1780691400@www.templeemanuel.com
SUMMARY:First Friday @ Shabbat Alive!: Grads\, Gratitude\, and Goodies
DESCRIPTION:Join us as we celebrate the Temple Emanuel Community’s school graduates and kick off summer with a special oneg filled with goodies! All are invited! \nWhat is First Friday? Start with an inspiring musical Shabbat Alive! Service in the Rabbi Samuel Chiel Sanctuary\, then stay for a beautiful post-service Oneg filled with delicious food and fellowship. \nWho is First Friday for? First Fridays are for everyone\, age 0 on up! \nWhy come to First Friday? To lift your spirit. To be inspired by ancient words animated with new melodies. To connect with a community of friends – old and new. To stand generation to generation\, together. \nView the First Friday 2025-26 Calendar HERE→
URL:https://www.templeemanuel.com/event/first-friday-grads-gratitude-goodies/
LOCATION:In Person – Temple Emanuel\, 385 Ward Street\, Newton\, MA\, 02459\, United States
CATEGORIES:Community,Shabbat
ATTACH;FMTTYPE=image/jpeg:https://www.templeemanuel.com/wp-content/uploads/2023/11/first-friday-grads-.jpg
END:VEVENT
BEGIN:VEVENT
DTSTART;TZID=America/New_York:20260607T120000
DTEND;TZID=America/New_York:20260607T140000
DTSTAMP:20260420T195828
CREATED:20260213T154545Z
LAST-MODIFIED:20260417T151915Z
UID:10014600-1780833600-1780840800@www.templeemanuel.com
SUMMARY:Stars of David Meeting
DESCRIPTION:The Stars of David is a group of adults with disabilities that meet for fun and spirited Jewish themed activities at Temple Emanuel. The group ages 30-70\, meets one Sunday per month\, and always includes lunch. \nNew participants are warmly welcomed by all including our many volunteers! Come see for yourself! Aides and family members are also welcome as needed and you need not be a Temple Emanuel member to attend. RSVPs for each meeting are appreciated. \nFor further information and to confirm the starting time for each meeting (sometimes we start at noon)\, please contact Debbie Sussman at templestarsofdavid@gmail.com or call (617) 620-8384.
URL:https://www.templeemanuel.com/event/stars-of-david-meeting-2/2026-06-07/
LOCATION:In Person – Temple Emanuel\, 385 Ward Street\, Newton\, MA\, 02459\, United States
CATEGORIES:Adult Education,Community
ATTACH;FMTTYPE=image/png:https://www.templeemanuel.com/wp-content/uploads/2022/03/Stars-of-David-Meeting.png
END:VEVENT
BEGIN:VEVENT
DTSTART;TZID=America/New_York:20260613T093000
DTEND;TZID=America/New_York:20260613T130000
DTSTAMP:20260420T195828
CREATED:20251125T150319Z
LAST-MODIFIED:20260226T143921Z
UID:10012466-1781343000-1781355600@www.templeemanuel.com
SUMMARY:Hazzan Sheni Dan Nesson's 36th Anniversary Shabbat Celebration
DESCRIPTION:Join us Saturday\, June 13th as we look forward to celebrating Dan Nesson’s 36 years of dedicated service to Temple Emanuel. As our Hazzan Sheni and Ritual Director\, Dan has shaped our ritual life in profound ways — teaching and tutoring generations of students\, chanting and reading Torah\, guiding services\, and supporting our community with warmth and care at every turn. \nPlease join us for a festive kiddush as we honor Dan and express our deep gratitude for all he brings to Temple Emanuel. \nView our 90th Celebration events HERE!
URL:https://www.templeemanuel.com/event/hazzan-sheni-dan-nessons-36th-anniversary-shabbat-celebration/
LOCATION:In Person – Temple Emanuel\, 385 Ward Street\, Newton\, MA\, 02459\, United States
CATEGORIES:90th Celebration,Community,Livestream,Service Times,Shabbat,Shabbat & Holiday Services
ATTACH;FMTTYPE=image/jpeg:https://www.templeemanuel.com/wp-content/uploads/2025/11/Dan-Nesson-36.jpg
END:VEVENT
END:VCALENDAR