
BEGIN:VCALENDAR
VERSION:2.0
PRODID:-//Temple Emanuel - ECPv6.15.20//NONSGML v1.0//EN
CALSCALE:GREGORIAN
METHOD:PUBLISH
X-ORIGINAL-URL:https://www.templeemanuel.com
X-WR-CALDESC:Events for Temple Emanuel
REFRESH-INTERVAL;VALUE=DURATION:PT1H
X-Robots-Tag:noindex
X-PUBLISHED-TTL:PT1H
BEGIN:VTIMEZONE
TZID:America/New_York
BEGIN:DAYLIGHT
TZOFFSETFROM:-0500
TZOFFSETTO:-0400
TZNAME:EDT
DTSTART:20250309T070000
END:DAYLIGHT
BEGIN:STANDARD
TZOFFSETFROM:-0400
TZOFFSETTO:-0500
TZNAME:EST
DTSTART:20251102T060000
END:STANDARD
BEGIN:DAYLIGHT
TZOFFSETFROM:-0500
TZOFFSETTO:-0400
TZNAME:EDT
DTSTART:20260308T070000
END:DAYLIGHT
BEGIN:STANDARD
TZOFFSETFROM:-0400
TZOFFSETTO:-0500
TZNAME:EST
DTSTART:20261101T060000
END:STANDARD
BEGIN:DAYLIGHT
TZOFFSETFROM:-0500
TZOFFSETTO:-0400
TZNAME:EDT
DTSTART:20270314T070000
END:DAYLIGHT
BEGIN:STANDARD
TZOFFSETFROM:-0400
TZOFFSETTO:-0500
TZNAME:EST
DTSTART:20271107T060000
END:STANDARD
END:VTIMEZONE
BEGIN:VEVENT
DTSTART;TZID=America/New_York:20260306T183000
DTEND;TZID=America/New_York:20260306T213000
DTSTAMP:20260422T213320
CREATED:20251013T174436Z
LAST-MODIFIED:20260203T184323Z
UID:10013071-1772821800-1772832600@www.templeemanuel.com
SUMMARY:Gesher (30s-50s) Shabbat Dinner
DESCRIPTION:Join Gesher\, the 30s\, 40s\, and 50s community at Temple Emanuel\, for a wonderful Shabbat dinner! Enjoy delicious food\, make new friends\, and play fun board games. Save your seat now! \n$18 per person. \nRegister→
URL:https://www.templeemanuel.com/event/gesher-30s-50s-shabbat-dinner/2026-03-06/
LOCATION:Reisman Hall\, 385 Ward Street\, Newton\, MA\, 02459\, United States
CATEGORIES:Gesher 30's & 40's
ATTACH;FMTTYPE=image/png:https://www.templeemanuel.com/wp-content/uploads/2025/10/gesher-30s-50s-dinner.png
END:VEVENT
END:VCALENDAR