
BEGIN:VCALENDAR
VERSION:2.0
PRODID:-//Temple Emanuel - ECPv6.15.20//NONSGML v1.0//EN
CALSCALE:GREGORIAN
METHOD:PUBLISH
X-ORIGINAL-URL:https://www.templeemanuel.com
X-WR-CALDESC:Events for Temple Emanuel
REFRESH-INTERVAL;VALUE=DURATION:PT1H
X-Robots-Tag:noindex
X-PUBLISHED-TTL:PT1H
BEGIN:VTIMEZONE
TZID:America/New_York
BEGIN:DAYLIGHT
TZOFFSETFROM:-0500
TZOFFSETTO:-0400
TZNAME:EDT
DTSTART:20250309T070000
END:DAYLIGHT
BEGIN:STANDARD
TZOFFSETFROM:-0400
TZOFFSETTO:-0500
TZNAME:EST
DTSTART:20251102T060000
END:STANDARD
BEGIN:DAYLIGHT
TZOFFSETFROM:-0500
TZOFFSETTO:-0400
TZNAME:EDT
DTSTART:20260308T070000
END:DAYLIGHT
BEGIN:STANDARD
TZOFFSETFROM:-0400
TZOFFSETTO:-0500
TZNAME:EST
DTSTART:20261101T060000
END:STANDARD
BEGIN:DAYLIGHT
TZOFFSETFROM:-0500
TZOFFSETTO:-0400
TZNAME:EDT
DTSTART:20270314T070000
END:DAYLIGHT
BEGIN:STANDARD
TZOFFSETFROM:-0400
TZOFFSETTO:-0500
TZNAME:EST
DTSTART:20271107T060000
END:STANDARD
END:VTIMEZONE
BEGIN:VEVENT
DTSTART;TZID=America/New_York:20260315T100000
DTEND;TZID=America/New_York:20260315T120000
DTSTAMP:20260422T213227
CREATED:20230210T172824Z
LAST-MODIFIED:20260313T155336Z
UID:10002858-1773568800-1773576000@www.templeemanuel.com
SUMMARY:Kitah Bet (2nd): Bringing Order to the Seder
DESCRIPTION:Parents are invited to meet their 2nd graders in Reisman Hall at 10:00 AM to create a very special Haggadah together. Visit 15 stations that correspond with the 15 parts of the Passover Seder! \nDrop-off is at 9:30 as usual
URL:https://www.templeemanuel.com/event/bringing-order-to-the-seder/
LOCATION:Reisman Hall\, 385 Ward Street\, Newton\, MA\, 02459\, United States
CATEGORIES:Passover,Religious School / Chai 385
ATTACH;FMTTYPE=image/png:https://www.templeemanuel.com/wp-content/uploads/2023/02/bringing-order-to-the-seder-2026.png
END:VEVENT
BEGIN:VEVENT
DTSTART;TZID=America/New_York:20260315T103000
DTEND;TZID=America/New_York:20260315T120000
DTSTAMP:20260422T213227
CREATED:20230210T172502Z
LAST-MODIFIED:20260306T163345Z
UID:10002856-1773570600-1773576000@www.templeemanuel.com
SUMMARY:Kitah Gimel (3rd Grade) Kabbalat Haggadah
DESCRIPTION:Kitah Gimel (3rd Grade) have been learning about the Exodus story and preparing a very special performance for you! Then\, each child will receive their very own A Night to Remember Haggadah to take home. Religious School drop-off is at 9:30 as usual\, then parents and grown-ups should meet their 3rd graders in the chapel at 10:30.
URL:https://www.templeemanuel.com/event/kitah-gimel-kabbalat-haggadah/
LOCATION:Gann Chapel\, 385 Ward Street\, Newton\, MA\, 02459\, United States
CATEGORIES:Passover,Religious School / Chai 385
ATTACH;FMTTYPE=image/png:https://www.templeemanuel.com/wp-content/uploads/2023/02/Kitah-gimel-Kabbalat-Haggadah-.png
END:VEVENT
END:VCALENDAR