
BEGIN:VCALENDAR
VERSION:2.0
PRODID:-//Temple Emanuel - ECPv6.15.20//NONSGML v1.0//EN
CALSCALE:GREGORIAN
METHOD:PUBLISH
X-ORIGINAL-URL:https://www.templeemanuel.com
X-WR-CALDESC:Events for Temple Emanuel
REFRESH-INTERVAL;VALUE=DURATION:PT1H
X-Robots-Tag:noindex
X-PUBLISHED-TTL:PT1H
BEGIN:VTIMEZONE
TZID:America/New_York
BEGIN:DAYLIGHT
TZOFFSETFROM:-0500
TZOFFSETTO:-0400
TZNAME:EDT
DTSTART:20230312T070000
END:DAYLIGHT
BEGIN:STANDARD
TZOFFSETFROM:-0400
TZOFFSETTO:-0500
TZNAME:EST
DTSTART:20231105T060000
END:STANDARD
BEGIN:DAYLIGHT
TZOFFSETFROM:-0500
TZOFFSETTO:-0400
TZNAME:EDT
DTSTART:20240310T070000
END:DAYLIGHT
BEGIN:STANDARD
TZOFFSETFROM:-0400
TZOFFSETTO:-0500
TZNAME:EST
DTSTART:20241103T060000
END:STANDARD
BEGIN:DAYLIGHT
TZOFFSETFROM:-0500
TZOFFSETTO:-0400
TZNAME:EDT
DTSTART:20250309T070000
END:DAYLIGHT
BEGIN:STANDARD
TZOFFSETFROM:-0400
TZOFFSETTO:-0500
TZNAME:EST
DTSTART:20251102T060000
END:STANDARD
BEGIN:DAYLIGHT
TZOFFSETFROM:-0500
TZOFFSETTO:-0400
TZNAME:EDT
DTSTART:20260308T070000
END:DAYLIGHT
BEGIN:STANDARD
TZOFFSETFROM:-0400
TZOFFSETTO:-0500
TZNAME:EST
DTSTART:20261101T060000
END:STANDARD
END:VTIMEZONE
BEGIN:VEVENT
DTSTART;TZID=America/New_York:20251102T110000
DTEND;TZID=America/New_York:20251102T120000
DTSTAMP:20260425T064949
CREATED:20251022T183103Z
LAST-MODIFIED:20251022T183402Z
UID:10011609-1762081200-1762084800@www.templeemanuel.com
SUMMARY:Holiday Magic
DESCRIPTION:Join Lena and special guest David Rosemberg for a program designed to provide parents and children ages 0-5 with age-appropriate activities\, songs\, stories\, and teachings that will infuse each upcoming holiday with meaning. \nRegister→ \nGenerously Sponsored by the Cindy Levinson Fund for Parenting Education
URL:https://www.templeemanuel.com/event/holiday-magic-4/
LOCATION:Reisman Hall\, 385 Ward Street\, Newton\, MA\, 02459\, United States
CATEGORIES:Hanukkah,High Holidays,Passover,Purim,Shavuot,Sukkot/Shemini Atzeret/Simchat Torah,TE Tots
ATTACH;FMTTYPE=image/png:https://www.templeemanuel.com/wp-content/uploads/2025/08/Holiday-Magic-1.png
END:VEVENT
BEGIN:VEVENT
DTSTART;TZID=America/New_York:20251014T193000
DTEND;TZID=America/New_York:20251014T203000
DTSTAMP:20260425T064949
CREATED:20240924T154144Z
LAST-MODIFIED:20250909T145840Z
UID:10009124-1760470200-1760473800@www.templeemanuel.com
SUMMARY:Teen Ice Cream Party after Simchat Torah
DESCRIPTION:Come and join us in the Solomon Youth Lounge for ice cream after Simchat Torah services! \nAll Temple Emanuel teens\, grades 6-12 \,and parents are invited to join. \nNo RSVP required.
URL:https://www.templeemanuel.com/event/teen-ice-cream-party-simchat-torah/
LOCATION:Solomon Youth Lounge\, 385 Ward Street\, Newton\, MA\, 02459\, United States
CATEGORIES:B'nei Mitzvah,Community,Sukkot/Shemini Atzeret/Simchat Torah,Youth/TE Teens
ATTACH;FMTTYPE=image/png:https://www.templeemanuel.com/wp-content/uploads/2024/09/Teen-Ice-Cream-Party-After-Simchat-Torah.png
END:VEVENT
BEGIN:VEVENT
DTSTART;TZID=America/New_York:20251014T183000
DTEND;TZID=America/New_York:20251014T200000
DTSTAMP:20260425T064949
CREATED:20231002T161808Z
LAST-MODIFIED:20250918T162811Z
UID:10005844-1760466600-1760472000@www.templeemanuel.com
SUMMARY:Erev Simchat Torah Celebration
DESCRIPTION:Join us for a community celebration in the Leventhal-Sidman Community Court\, featuring Hakafot led by the TE Children’s Choir and Tizmoret Teen Band! \n 
URL:https://www.templeemanuel.com/event/erev-simchat-torah-celebration/
LOCATION:Leventhal-Sidman Community Court\, 385 Ward Street\, Newton\, MA\, 02459\, United States
CATEGORIES:Community,Service Times,Shabbat,Sukkot/Shemini Atzeret/Simchat Torah
ATTACH;FMTTYPE=image/png:https://www.templeemanuel.com/wp-content/uploads/2023/10/simchat-torah-celebration-2.png
END:VEVENT
BEGIN:VEVENT
DTSTART;TZID=America/New_York:20251014T180000
DTEND;TZID=America/New_York:20251014T183000
DTSTAMP:20260425T064949
CREATED:20230807T210310Z
LAST-MODIFIED:20250909T160543Z
UID:10004737-1760464800-1760466600@www.templeemanuel.com
SUMMARY:Gan/Kindergarten Kabbalat Torah Ceremony
DESCRIPTION:Gan (Kindergarten) students begin their Jewish learning journey by receiving their very own mini-Torahs from the clergy. \nDancing and celebrating for Simchat Torah immediately following the ceremony! \nIf your child is not yet enrolled in Religious School\, please email Risa Wagner to make sure we have your child on the list to receive a Torah. \n 
URL:https://www.templeemanuel.com/event/gan-kindergarten-kabbalat-torah-ceremony/
LOCATION:Gann Chapel\, 385 Ward Street\, Newton\, MA\, 02459\, United States
CATEGORIES:Religious School / Chai 385,Sukkot/Shemini Atzeret/Simchat Torah
ATTACH;FMTTYPE=image/png:https://www.templeemanuel.com/wp-content/uploads/2023/08/Gan-Kindergarten-Kabbalat-Torah-Ceremony.png
END:VEVENT
BEGIN:VEVENT
DTSTART;TZID=America/New_York:20251012T100000
DTEND;TZID=America/New_York:20251012T120000
DTSTAMP:20260425T064949
CREATED:20250905T162203Z
LAST-MODIFIED:20250905T162203Z
UID:10011805-1760263200-1760270400@www.templeemanuel.com
SUMMARY:Family Sukkahfest!
DESCRIPTION:Come join us for a Sukkot celebration! There will be some fun activities\, including candy sukkah making and a petting zoo! \nRegister→ \nThis program is presented in partnership with the IAC
URL:https://www.templeemanuel.com/event/family-sukkahfest/
LOCATION:In Person – Temple Emanuel\, 385 Ward Street\, Newton\, MA\, 02459\, United States
CATEGORIES:Religious School / Chai 385,Sukkot/Shemini Atzeret/Simchat Torah
ATTACH;FMTTYPE=image/png:https://www.templeemanuel.com/wp-content/uploads/2025/09/Copy-of-Family-SukkahFest-flyer.png
END:VEVENT
BEGIN:VEVENT
DTSTART;TZID=America/New_York:20251010T120000
DTEND;TZID=America/New_York:20251010T130000
DTSTAMP:20260425T064949
CREATED:20250812T134512Z
LAST-MODIFIED:20251001T150016Z
UID:10011626-1760097600-1760101200@www.templeemanuel.com
SUMMARY:Lunch in the Sukkah
DESCRIPTION:The TE community is welcome to bring their own lunches to the Brezniak Sukkah. Enjoy our Sukkah with the TE community! \nThe Sukkah will be open for members to eat lunch from 12-1pm on October 10th. \nNo registration required. \nContact LauraSue with any questions.
URL:https://www.templeemanuel.com/event/sukkah-lunch/
LOCATION:In Person – Temple Emanuel\, 385 Ward Street\, Newton\, MA\, 02459\, United States
CATEGORIES:Community,Sukkot/Shemini Atzeret/Simchat Torah
ATTACH;FMTTYPE=image/png:https://www.templeemanuel.com/wp-content/uploads/2023/09/Bring-Your-Lunch-to-the-Brezniak-Sukkah.png
END:VEVENT
BEGIN:VEVENT
DTSTART;TZID=America/New_York:20251009T190000
DTEND;TZID=America/New_York:20251009T220000
DTSTAMP:20260425T064949
CREATED:20210913T135920Z
LAST-MODIFIED:20251006T211213Z
UID:10002029-1760036400-1760047200@www.templeemanuel.com
SUMMARY:5th Annual Mystery Scotch in the Sukkah
DESCRIPTION:5th Annual Blind Scotch Tasting & Dinner in the Brezniak Sukkah!\nHosted by Temple Emanuel Brotherhood – open to all! \nJoin us for an unforgettable\, spirited evening in the sukkah with: \n\nUnlimited blind tastings of top-shelf scotch (guess what’s what!)\nRami’s buffet dinner + non-alcoholic drinks\nYour own custom tasting glass to take home\n\nAdmission \n\n$50 per person\n\n2nd Annual Raffle – Back by Popular Demand! \nPurchase raffle tickets to enter one or more of many prize bundles\, each worth $250+! Last year\, 6 prizes totaled over $3\,000 in value! Past prizes included rare spirits\, golf outings\, fine dining\, Red Sox tickets\, and more. \nHow it works: \n\nWe will have several prizes\, each with its own “fishbowl” or separate raffle.\nDrop as many tickets as you like in each “fishbowl”—one ticket for a single chance at a single prize and additional tickets in one fishbowl for better odds at a single prize. \nPer below\, buy 12 tickets for half price!\nOne prize per person (if you’re drawn more than once\, pick your favorite prize won\, and we redraw the other.)\nMust be present at the final scotch reveal to win. If you leave early\, leave your ticket and designate a friend to accept on your behalf.\n\nRaffle Tickets \n\n$12 each or $72 for 12 tickets ($6 each; half-price!)\n\nOver 120 people attended last year! Reserve early for yourself and a friend—this event may sell out! \nRegister Here→ \nQuestions\, contact Josh Ehrenfried \n\n\n\n\n\n\n\n\n \n 
URL:https://www.templeemanuel.com/event/mystery-scotch-in-the-sukkah/
LOCATION:In Person – Temple Emanuel\, 385 Ward Street\, Newton\, MA\, 02459\, United States
CATEGORIES:Brotherhood,Community,Sukkot/Shemini Atzeret/Simchat Torah
ATTACH;FMTTYPE=image/png:https://www.templeemanuel.com/wp-content/uploads/2021/09/5th-Mystery-Scotch-in-the-Sukkah.png
END:VEVENT
BEGIN:VEVENT
DTSTART;TZID=America/New_York:20251008T193000
DTEND;TZID=America/New_York:20251008T220000
DTSTAMP:20260425T064949
CREATED:20250908T161237Z
LAST-MODIFIED:20250908T161345Z
UID:10011806-1759951800-1759960800@www.templeemanuel.com
SUMMARY:Yisod Game Night in the Sukkah
DESCRIPTION:Enjoy an epic night of board games under the Sukkah with Yisod! We’ll have lots of board games and feel free to bring your favorites too. Light drinks and snacks will be provided—you’re welcome to BYO drinks and snacks as well! \nThis event is for adults in their 20s and 30s. \nNo cost but registration is required. \nRegister→
URL:https://www.templeemanuel.com/event/yisod-game-night-in-the-sukkah/
LOCATION:In Person – Temple Emanuel\, 385 Ward Street\, Newton\, MA\, 02459\, United States
CATEGORIES:Sukkot/Shemini Atzeret/Simchat Torah,Yisod 20's & 30's
ATTACH;FMTTYPE=image/png:https://www.templeemanuel.com/wp-content/uploads/2025/09/Yisod-Events-25-26.png
END:VEVENT
BEGIN:VEVENT
DTSTART;TZID=America/New_York:20251008T180000
DTEND;TZID=America/New_York:20251008T190000
DTSTAMP:20260425T064949
CREATED:20240418T161300Z
LAST-MODIFIED:20250908T153209Z
UID:10007927-1759946400-1759950000@www.templeemanuel.com
SUMMARY:Teen Pizza Dinner in the Sukkah Lounge Night
DESCRIPTION:Join your fellow teens as we enjoy a pizza dinner in the Sukkah and then head to the Youth Lounge for games and socializing. Come and celebrate Sukkot with us! \nGrades 8-12 \nCost: $10 \nRegister→
URL:https://www.templeemanuel.com/event/teen-pizza-dinner-in-the-sukkah-lounge-night/
LOCATION:In Person – Temple Emanuel\, 385 Ward Street\, Newton\, MA\, 02459\, United States
CATEGORIES:B'nei Mitzvah,Sukkot/Shemini Atzeret/Simchat Torah,Youth/TE Teens
ATTACH;FMTTYPE=image/png:https://www.templeemanuel.com/wp-content/uploads/2024/04/Teen-Pizza-Dinner-Sukkah.png
END:VEVENT
BEGIN:VEVENT
DTSTART;TZID=America/New_York:20251007T093000
DTEND;TZID=America/New_York:20251007T120000
DTSTAMP:20260425T064949
CREATED:20221003T165907Z
LAST-MODIFIED:20250917T201918Z
UID:10002719-1759829400-1759838400@www.templeemanuel.com
SUMMARY:Sukkot Day I Service with Guest Speaker Dr. Mark Poznansky
DESCRIPTION:Sermon topic – Building a Sukkah of Hope One Fellow at a Time \nOn October 7\, 2023\, the world changed both in Israel and here in the United States for us as Jews.  Antisemitism has become mainstream\, most visibly in academia.  Join us on the first day of Sukkot\, October 7th\, as Dr. Mark Poznansky shares stories from the trenches of academic medicine where he and his colleagues are making a difference and charting a path for us to make a difference too. \nAbout Dr. Mark Poznansky\nMark C Poznansky\, MD\, PhD\, is a Professor of medicine at Harvard Medical School\, an attending physician in infectious diseases medicine at the Massachusetts General Hospital (MGH)\, and Director of the Vaccine and Immunotherapy Center at MGH. He holds a doctoral degree Cambridge University and a medical degree from University of Edinburgh. The translational medical research center\, the Vaccine and Immunotherapy Center\, that Dr. Poznansky founded and directs sits at the interface between scientific discovery and medical product development\, discovering novel immune processes\, defining their molecular mechanisms and exploring their relevance to the development of vaccines and immunotherapies for cancer\, infectious diseases and type I diabetes.  Dr. Poznansky is also the co-founder of the Harvard Medical School chapter of Kalaniyot which sets as its mission to foster academic relations between Israeli academic medical centers and HMS here in Boston.  He is also the co-founder of the Jewish Employee Resource Group at Mass General Brigham that helps support the community of Jewish and Jewish affiliated healthcare workers in this large Massachusetts based healthcare system.  Dr. Poznansky also serves on the Board of the newly formed American Jewish Medical Association.
URL:https://www.templeemanuel.com/event/sukkot-day-i-service/
LOCATION:Rabbi Samuel Chiel Sanctuary\, 385 Ward Street\, Newton\, MA\, 02459\, United States
CATEGORIES:Livestream,Service Times,Shabbat & Holiday Services,Sukkot/Shemini Atzeret/Simchat Torah
ATTACH;FMTTYPE=image/png:https://www.templeemanuel.com/wp-content/uploads/2022/10/Sukkot-Poznansky.png
END:VEVENT
BEGIN:VEVENT
DTSTART;TZID=America/New_York:20251005T110000
DTEND;TZID=America/New_York:20251005T120000
DTSTAMP:20260425T064949
CREATED:20250918T193813Z
LAST-MODIFIED:20251003T170248Z
UID:10011608-1759662000-1759665600@www.templeemanuel.com
SUMMARY:Holiday Magic: Sukkot
DESCRIPTION:Celebrate Sukkot with your TE Tots friends! Join Lena and special guest Stacey Shulman\, Preschool Director\, as we craft our own lulavs and etrogs\, decorate the sukkah\, and sing songs to welcome guests! \nRegister→ \nGenerously Sponsored by the Cindy Levinson Fund for Parenting Education
URL:https://www.templeemanuel.com/event/holiday-magic-2/
LOCATION:Reisman Hall\, 385 Ward Street\, Newton\, MA\, 02459\, United States
CATEGORIES:Hanukkah,High Holidays,Passover,Purim,Shavuot,Sukkot/Shemini Atzeret/Simchat Torah,TE Tots
ATTACH;FMTTYPE=image/png:https://www.templeemanuel.com/wp-content/uploads/2025/08/Holiday-Magic-1.png
END:VEVENT
BEGIN:VEVENT
DTSTART;TZID=America/New_York:20251004T093000
DTEND;TZID=America/New_York:20251004T120000
DTSTAMP:20260425T064949
CREATED:20241022T181243Z
LAST-MODIFIED:20250908T145202Z
UID:10009657-1759570200-1759579200@www.templeemanuel.com
SUMMARY:Main Shabbat Morning ServiceWith Guest Speaker Rabbi Ravid Tilles
DESCRIPTION:Join us for a special Shabbat morning service with guest speaker\, Rabbi Ravid Tilles. \nSermon Topic: Now Is the Best Time to Be Counter Cultural! \nJudaism has always\, from the very beginning\, been a counter point to the surrounding culture. Most of us have grown up in a Jewish community that has struggled to blend our surrounding culture with our ancient tradition. But as the culture around us becomes unbearable\, maybe this is the exact time to reclaim our roots! \nAbout Rabbi Ravid Tilles \nRabbi Ravid Tilles is the School Rabbi and Director of Jewish Life and Learning at Schechter Boston. He and his wife\, Yaffa\, and three sons are members of the Temple Emanuel family.
URL:https://www.templeemanuel.com/event/main-shabbat-morning-service-with-guest-speaker-rabbi-ravid-tilles/
LOCATION:Rabbi Samuel Chiel Sanctuary\, 385 Ward Street\, Newton\, MA\, 02459\, United States
CATEGORIES:Community,Livestream,Service Times,Shabbat,Shabbat & Holiday Services,Sukkot/Shemini Atzeret/Simchat Torah
ATTACH;FMTTYPE=image/png:https://www.templeemanuel.com/wp-content/uploads/2024/10/Guest-Ravid-Tilles.png
END:VEVENT
BEGIN:VEVENT
DTSTART;TZID=America/New_York:20241025T110000
DTEND;TZID=America/New_York:20241025T120000
DTSTAMP:20260425T064949
CREATED:20230926T142657Z
LAST-MODIFIED:20241008T184447Z
UID:10005811-1729854000-1729857600@www.templeemanuel.com
SUMMARY:Tot Simchat Torah Service
DESCRIPTION:Join us for a fabulous Simchat Torah service with Rock star\, Wayne Potash designed for children ages 0-5 and their families! Come ready to sing all your favorite holiday songs\, and at the end\, feel free to ask him to play your favorite songs too! \n 
URL:https://www.templeemanuel.com/event/tot-simchat-torah-service/
LOCATION:Gann Chapel\, 385 Ward Street\, Newton\, MA\, 02459\, United States
CATEGORIES:Service Times,Shabbat & Holiday Services,Sukkot/Shemini Atzeret/Simchat Torah,TE Tots
END:VEVENT
BEGIN:VEVENT
DTSTART;TZID=America/New_York:20241025T104500
DTEND;TZID=America/New_York:20241025T120000
DTSTAMP:20260425T064949
CREATED:20230927T175252Z
LAST-MODIFIED:20241008T184418Z
UID:10005840-1729853100-1729857600@www.templeemanuel.com
SUMMARY:Simchat Torah Children's Service (Grades K-6)
DESCRIPTION:Join us in Room 22 \n 
URL:https://www.templeemanuel.com/event/simchat-torah-childrens-service-grades-k-6/
LOCATION:In Person – Temple Emanuel\, 385 Ward Street\, Newton\, MA\, 02459\, United States
CATEGORIES:Service Times,Shabbat,Sukkot/Shemini Atzeret/Simchat Torah
ATTACH;FMTTYPE=image/png:https://www.templeemanuel.com/wp-content/uploads/2023/09/tots-simchat-torah.png
END:VEVENT
BEGIN:VEVENT
DTSTART;TZID=America/New_York:20241021T193000
DTEND;TZID=America/New_York:20241021T210000
DTSTAMP:20260425T064949
CREATED:20241009T135847Z
LAST-MODIFIED:20241009T135847Z
UID:10009248-1729539000-1729544400@www.templeemanuel.com
SUMMARY:Shelter of Song - A Sukkot Concert Gathering
DESCRIPTION:Celebrate Sukkot in heart-opening song and community. Guided by Rabbi Deborah Sacks Mintz of Hadar’s Rising Song Institute\, we’ll gather in the sukkah for an evening of participatory nigunim\, prayerful music\, and seasonal joy. \nRegister Here→ \nIf price is an issue\, reach out to info@hadar.org. \nAbout Rabbi Deborah Sacks Mintz\nRabbi Deborah Sacks Mintz is Hadar’s Director of Tefillah and Music. She has collaborated on over two dozen records of new Jewish music\, including her original albums: The Narrow and the Expanse (2020) and Yetzira (2023). Deborah was ordained by the Jewish Theological Seminary\, and earned degrees in music\, religious anthropology\, and women’s studies from the University of Michigan and JTS. \nThis event is in partnership with Hadar Boston \n 
URL:https://www.templeemanuel.com/event/shelter-of-song-a-sukkot-concert-gathering/
LOCATION:In Person – Temple Emanuel\, 385 Ward Street\, Newton\, MA\, 02459\, United States
CATEGORIES:Community,Music,Sukkot/Shemini Atzeret/Simchat Torah
ATTACH;FMTTYPE=image/png:https://www.templeemanuel.com/wp-content/uploads/2024/10/hadar-sukkot-concert.png
END:VEVENT
BEGIN:VEVENT
DTSTART;TZID=America/New_York:20241021T173000
DTEND;TZID=America/New_York:20241021T190000
DTSTAMP:20260425T064949
CREATED:20241009T142816Z
LAST-MODIFIED:20241009T205522Z
UID:10009249-1729531800-1729537200@www.templeemanuel.com
SUMMARY:Kesher Sukkot Celebration
DESCRIPTION:Come celebrate Sukkot with the Kesher community! Meet your children’s new friends and their families. \nActivities include: \n\nShake the lulav and etrog\nMake decorations\nBuild edible sukkot\nEnjoy a pizza dinner together\n\nCost: $18/family (includes supper) \nRSVP by Wednesday\, October 16\, 2024 \nRegister Here→
URL:https://www.templeemanuel.com/event/kesher-sukkot-celebration/
LOCATION:In Person – Temple Emanuel\, 385 Ward Street\, Newton\, MA\, 02459\, United States
CATEGORIES:Religious School / Chai 385,Sukkot/Shemini Atzeret/Simchat Torah
END:VEVENT
BEGIN:VEVENT
DTSTART;TZID=America/New_York:20241021T120000
DTEND;TZID=America/New_York:20241021T130000
DTSTAMP:20260425T064949
CREATED:20240927T145709Z
LAST-MODIFIED:20240930T132411Z
UID:10009176-1729512000-1729515600@www.templeemanuel.com
SUMMARY:Lunch in the Sukkah
DESCRIPTION:The TE community is welcome to bring their own lunches to the Brezniak Sukkah. Enjoy our Sukkah with the TE community! \nThe Sukkah will be open for members to eat lunch from 12-1pm on October  21 and 23. \nNo registration required. \nContact Noa with any questions.
URL:https://www.templeemanuel.com/event/sukkahlunch/2024-10-21/
LOCATION:In Person – Temple Emanuel\, 385 Ward Street\, Newton\, MA\, 02459\, United States
CATEGORIES:Community,Sukkot/Shemini Atzeret/Simchat Torah
ATTACH;FMTTYPE=image/png:https://www.templeemanuel.com/wp-content/uploads/2023/09/Bring-Your-Lunch-to-the-Brezniak-Sukkah.png
END:VEVENT
BEGIN:VEVENT
DTSTART;TZID=America/New_York:20241018T110000
DTEND;TZID=America/New_York:20241018T120000
DTSTAMP:20260425T064949
CREATED:20230922T171811Z
LAST-MODIFIED:20241016T174138Z
UID:10005808-1729249200-1729252800@www.templeemanuel.com
SUMMARY:Tot Sukkot Day II Service
DESCRIPTION:Join us in Room 24/25
URL:https://www.templeemanuel.com/event/tot-sukkot-day-ii-service/
LOCATION:In Person – Temple Emanuel\, 385 Ward Street\, Newton\, MA\, 02459\, United States
CATEGORIES:Service Times,Shabbat & Holiday Services,Sukkot/Shemini Atzeret/Simchat Torah,TE Tots
ATTACH;FMTTYPE=image/png:https://www.templeemanuel.com/wp-content/uploads/2022/10/Tot-Sukkot-Services.png
END:VEVENT
BEGIN:VEVENT
DTSTART;TZID=America/New_York:20241015T160000
DTEND;TZID=America/New_York:20241015T173000
DTSTAMP:20260425T064949
CREATED:20241008T185828Z
LAST-MODIFIED:20241010T152508Z
UID:10009246-1729008000-1729013400@www.templeemanuel.com
SUMMARY:Community Sukkah Decorating
DESCRIPTION:Please join us as we decorate the Brezniak Sukkah with the community. Decorations provided or we will make our own. Snacks provided!
URL:https://www.templeemanuel.com/event/community-sukkah-decorating/
LOCATION:In Person – Temple Emanuel\, 385 Ward Street\, Newton\, MA\, 02459\, United States
CATEGORIES:Community,Sukkot/Shemini Atzeret/Simchat Torah
ATTACH;FMTTYPE=image/png:https://www.templeemanuel.com/wp-content/uploads/2024/10/Community-Sukkah-Decorating.png
END:VEVENT
END:VCALENDAR