
BEGIN:VCALENDAR
VERSION:2.0
PRODID:-//Temple Emanuel - ECPv6.15.20//NONSGML v1.0//EN
CALSCALE:GREGORIAN
METHOD:PUBLISH
X-WR-CALNAME:Temple Emanuel
X-ORIGINAL-URL:https://www.templeemanuel.com
X-WR-CALDESC:Events for Temple Emanuel
REFRESH-INTERVAL;VALUE=DURATION:PT1H
X-Robots-Tag:noindex
X-PUBLISHED-TTL:PT1H
BEGIN:VTIMEZONE
TZID:America/New_York
BEGIN:DAYLIGHT
TZOFFSETFROM:-0500
TZOFFSETTO:-0400
TZNAME:EDT
DTSTART:20250309T070000
END:DAYLIGHT
BEGIN:STANDARD
TZOFFSETFROM:-0400
TZOFFSETTO:-0500
TZNAME:EST
DTSTART:20251102T060000
END:STANDARD
BEGIN:DAYLIGHT
TZOFFSETFROM:-0500
TZOFFSETTO:-0400
TZNAME:EDT
DTSTART:20260308T070000
END:DAYLIGHT
BEGIN:STANDARD
TZOFFSETFROM:-0400
TZOFFSETTO:-0500
TZNAME:EST
DTSTART:20261101T060000
END:STANDARD
BEGIN:DAYLIGHT
TZOFFSETFROM:-0500
TZOFFSETTO:-0400
TZNAME:EDT
DTSTART:20270314T070000
END:DAYLIGHT
BEGIN:STANDARD
TZOFFSETFROM:-0400
TZOFFSETTO:-0500
TZNAME:EST
DTSTART:20271107T060000
END:STANDARD
END:VTIMEZONE
BEGIN:VEVENT
DTSTART;TZID=America/New_York:20260423T093000
DTEND;TZID=America/New_York:20260423T103000
DTSTAMP:20260423T000411
CREATED:20250812T155358Z
LAST-MODIFIED:20250915T143237Z
UID:10011644-1776936600-1776940200@www.templeemanuel.com
SUMMARY:Torah for our Times
DESCRIPTION:With Rabbi Michelle Robinson\nWhile some of the difficulties we face today are new\, grappling with an uncertain world is an age-old challenge. Our Jewish tradition offers us a timeless toolbox of traditional texts that offer us ancient wisdom we can apply to our modern challenges. Join us each Thursday morning as we grapple with the big questions of who we are and how we might craft a life worth living. \nNEW THIS YEAR: Each week we explore a compelling story from the Talmud through the eyes of commentators whose insights can spark our own. \nOur class takes place on zoom – whether you’re in Newton\, New York\, Nevada\, or anywhere else around the world\, come learn with us! \nRegister and join us on Zoom here.  \nView the 2025-26 calendar HERE→
URL:https://www.templeemanuel.com/event/torah-for-our-times/2026-04-23/
LOCATION:Virtual
CATEGORIES:Adult Education,Featured,Virtual Programming
ATTACH;FMTTYPE=image/png:https://www.templeemanuel.com/wp-content/uploads/2021/03/Torah-for-our-Times-website.png
END:VEVENT
BEGIN:VEVENT
DTSTART;TZID=America/New_York:20260423T100000
DTEND;TZID=America/New_York:20260423T110000
DTSTAMP:20260423T000411
CREATED:20250717T195249Z
LAST-MODIFIED:20251204T205326Z
UID:10012412-1776938400-1776942000@www.templeemanuel.com
SUMMARY:Seated Zumba Gold
DESCRIPTION:  \n\n\n\nWith Ketty Rosenfeld \nThursday mornings \nSession Dates: Sept 11\, 25; Oct 23\, 30; Nov 6\, 13\, 20; Dec 4\, 25; Jan 8\, 22\, 29; Feb 5\, 12\, 19\, 26; March 5\, 12\, 19; April 16\, 23\, 30; May 21\, 28 \nJoin us Online via Zoom  \nMeeting ID: 871 2457 6849 \nWe are grateful for the Temple Emanuel Senior Fund for supporting Zumba Gold this season. No RSVP needed – No Charge – All are welcome.  Questions? Please contact Tracy Schneider.
URL:https://www.templeemanuel.com/event/seated-zumba-gold-2/2026-04-23/
LOCATION:Virtual
CATEGORIES:Active Older Adults,Virtual Programming
ATTACH;FMTTYPE=image/png:https://www.templeemanuel.com/wp-content/uploads/2021/03/zumba-gold-.png
END:VEVENT
BEGIN:VEVENT
DTSTART;TZID=America/New_York:20260430T093000
DTEND;TZID=America/New_York:20260430T103000
DTSTAMP:20260423T000411
CREATED:20250812T155358Z
LAST-MODIFIED:20250915T143237Z
UID:10011645-1777541400-1777545000@www.templeemanuel.com
SUMMARY:Torah for our Times
DESCRIPTION:With Rabbi Michelle Robinson\nWhile some of the difficulties we face today are new\, grappling with an uncertain world is an age-old challenge. Our Jewish tradition offers us a timeless toolbox of traditional texts that offer us ancient wisdom we can apply to our modern challenges. Join us each Thursday morning as we grapple with the big questions of who we are and how we might craft a life worth living. \nNEW THIS YEAR: Each week we explore a compelling story from the Talmud through the eyes of commentators whose insights can spark our own. \nOur class takes place on zoom – whether you’re in Newton\, New York\, Nevada\, or anywhere else around the world\, come learn with us! \nRegister and join us on Zoom here.  \nView the 2025-26 calendar HERE→
URL:https://www.templeemanuel.com/event/torah-for-our-times/2026-04-30/
LOCATION:Virtual
CATEGORIES:Adult Education,Featured,Virtual Programming
ATTACH;FMTTYPE=image/png:https://www.templeemanuel.com/wp-content/uploads/2021/03/Torah-for-our-Times-website.png
END:VEVENT
BEGIN:VEVENT
DTSTART;TZID=America/New_York:20260430T100000
DTEND;TZID=America/New_York:20260430T110000
DTSTAMP:20260423T000411
CREATED:20250717T195249Z
LAST-MODIFIED:20251204T205326Z
UID:10012413-1777543200-1777546800@www.templeemanuel.com
SUMMARY:Seated Zumba Gold
DESCRIPTION:  \n\n\n\nWith Ketty Rosenfeld \nThursday mornings \nSession Dates: Sept 11\, 25; Oct 23\, 30; Nov 6\, 13\, 20; Dec 4\, 25; Jan 8\, 22\, 29; Feb 5\, 12\, 19\, 26; March 5\, 12\, 19; April 16\, 23\, 30; May 21\, 28 \nJoin us Online via Zoom  \nMeeting ID: 871 2457 6849 \nWe are grateful for the Temple Emanuel Senior Fund for supporting Zumba Gold this season. No RSVP needed – No Charge – All are welcome.  Questions? Please contact Tracy Schneider.
URL:https://www.templeemanuel.com/event/seated-zumba-gold-2/2026-04-30/
LOCATION:Virtual
CATEGORIES:Active Older Adults,Virtual Programming
ATTACH;FMTTYPE=image/png:https://www.templeemanuel.com/wp-content/uploads/2021/03/zumba-gold-.png
END:VEVENT
END:VCALENDAR