
BEGIN:VCALENDAR
VERSION:2.0
PRODID:-//Temple Emanuel - ECPv6.15.20//NONSGML v1.0//EN
CALSCALE:GREGORIAN
METHOD:PUBLISH
X-WR-CALNAME:Temple Emanuel
X-ORIGINAL-URL:https://www.templeemanuel.com
X-WR-CALDESC:Events for Temple Emanuel
REFRESH-INTERVAL;VALUE=DURATION:PT1H
X-Robots-Tag:noindex
X-PUBLISHED-TTL:PT1H
BEGIN:VTIMEZONE
TZID:America/New_York
BEGIN:DAYLIGHT
TZOFFSETFROM:-0500
TZOFFSETTO:-0400
TZNAME:EDT
DTSTART:20250309T070000
END:DAYLIGHT
BEGIN:STANDARD
TZOFFSETFROM:-0400
TZOFFSETTO:-0500
TZNAME:EST
DTSTART:20251102T060000
END:STANDARD
BEGIN:DAYLIGHT
TZOFFSETFROM:-0500
TZOFFSETTO:-0400
TZNAME:EDT
DTSTART:20260308T070000
END:DAYLIGHT
BEGIN:STANDARD
TZOFFSETFROM:-0400
TZOFFSETTO:-0500
TZNAME:EST
DTSTART:20261101T060000
END:STANDARD
BEGIN:DAYLIGHT
TZOFFSETFROM:-0500
TZOFFSETTO:-0400
TZNAME:EDT
DTSTART:20270314T070000
END:DAYLIGHT
BEGIN:STANDARD
TZOFFSETFROM:-0400
TZOFFSETTO:-0500
TZNAME:EST
DTSTART:20271107T060000
END:STANDARD
END:VTIMEZONE
BEGIN:VEVENT
DTSTART;TZID=America/New_York:20260315T140000
DTEND;TZID=America/New_York:20260315T160000
DTSTAMP:20260424T092943
CREATED:20250404T151850Z
LAST-MODIFIED:20260302T180932Z
UID:10010744-1773583200-1773590400@www.templeemanuel.com
SUMMARY:Women's Clothing & Goods Swap
DESCRIPTION:Ladies – looking to mix up your wardrobe but also trying to not spend any money? Let’s go through our closets and swap items! \nBring in 2-3 items (clothing\, purses\, shoes\, accessories\, even small home goods) that you don’t want anymore to Temple Emanuel on Sunday\, March 15 from 2-4pm. We’ll shop each other’s giveaways and take what we like. Anything that is leftover afterward\, Shira and Julia\, your event hosts and Professional Organizers\, will take to a donation center. \nMake sure to bring a bag for the items you’d like to take (you can reuse the bag that you brought items in). Email Shira at contact@set-things-straight.com with any questions!
URL:https://www.templeemanuel.com/event/womens-clothing-goods-swap/
LOCATION:Benjamin Vestry\, 385 Ward Street\, Newton\, MA\, 02459\, United States
CATEGORIES:Active Older Adults,Community,Yisod 20's & 30's
ATTACH;FMTTYPE=image/png:https://www.templeemanuel.com/wp-content/uploads/2025/04/Womens-Clothing-Swap-2026.png
END:VEVENT
END:VCALENDAR