
BEGIN:VCALENDAR
VERSION:2.0
PRODID:-//Temple Emanuel - ECPv6.15.20//NONSGML v1.0//EN
CALSCALE:GREGORIAN
METHOD:PUBLISH
X-ORIGINAL-URL:https://www.templeemanuel.com
X-WR-CALDESC:Events for Temple Emanuel
REFRESH-INTERVAL;VALUE=DURATION:PT1H
X-Robots-Tag:noindex
X-PUBLISHED-TTL:PT1H
BEGIN:VTIMEZONE
TZID:America/New_York
BEGIN:DAYLIGHT
TZOFFSETFROM:-0500
TZOFFSETTO:-0400
TZNAME:EDT
DTSTART:20250309T070000
END:DAYLIGHT
BEGIN:STANDARD
TZOFFSETFROM:-0400
TZOFFSETTO:-0500
TZNAME:EST
DTSTART:20251102T060000
END:STANDARD
BEGIN:DAYLIGHT
TZOFFSETFROM:-0500
TZOFFSETTO:-0400
TZNAME:EDT
DTSTART:20260308T070000
END:DAYLIGHT
BEGIN:STANDARD
TZOFFSETFROM:-0400
TZOFFSETTO:-0500
TZNAME:EST
DTSTART:20261101T060000
END:STANDARD
BEGIN:DAYLIGHT
TZOFFSETFROM:-0500
TZOFFSETTO:-0400
TZNAME:EDT
DTSTART:20270314T070000
END:DAYLIGHT
BEGIN:STANDARD
TZOFFSETFROM:-0400
TZOFFSETTO:-0500
TZNAME:EST
DTSTART:20271107T060000
END:STANDARD
END:VTIMEZONE
BEGIN:VEVENT
DTSTART;TZID=America/New_York:20260320T183000
DTEND;TZID=America/New_York:20260320T223000
DTSTAMP:20260424T093137
CREATED:20260212T192839Z
LAST-MODIFIED:20260223T155131Z
UID:10013100-1774031400-1774045800@www.templeemanuel.com
SUMMARY:Yisod Bubbe's Classic Shabbat Dinner
DESCRIPTION:Yisod welcomes you to this homey Shabbat dinner where you can enjoy traditional roasted chicken\, kugel\, and more—just like Bubbe used to make it! \nThis event is for adults in their 20s & 30s. \nRegister→
URL:https://www.templeemanuel.com/event/yisod-bubbes-classic-shabbat-dinner/
LOCATION:Reisman Hall\, 385 Ward Street\, Newton\, MA\, 02459\, United States
CATEGORIES:Shabbat,Yisod 20's & 30's
ATTACH;FMTTYPE=image/png:https://www.templeemanuel.com/wp-content/uploads/2026/02/Bubbes-Classic-Shabbat-Dinner.png
END:VEVENT
END:VCALENDAR