
BEGIN:VCALENDAR
VERSION:2.0
PRODID:-//Temple Emanuel - ECPv6.15.20//NONSGML v1.0//EN
CALSCALE:GREGORIAN
METHOD:PUBLISH
X-WR-CALNAME:Temple Emanuel
X-ORIGINAL-URL:https://www.templeemanuel.com
X-WR-CALDESC:Events for Temple Emanuel
REFRESH-INTERVAL;VALUE=DURATION:PT1H
X-Robots-Tag:noindex
X-PUBLISHED-TTL:PT1H
BEGIN:VTIMEZONE
TZID:America/New_York
BEGIN:DAYLIGHT
TZOFFSETFROM:-0500
TZOFFSETTO:-0400
TZNAME:EDT
DTSTART:20250309T070000
END:DAYLIGHT
BEGIN:STANDARD
TZOFFSETFROM:-0400
TZOFFSETTO:-0500
TZNAME:EST
DTSTART:20251102T060000
END:STANDARD
BEGIN:DAYLIGHT
TZOFFSETFROM:-0500
TZOFFSETTO:-0400
TZNAME:EDT
DTSTART:20260308T070000
END:DAYLIGHT
BEGIN:STANDARD
TZOFFSETFROM:-0400
TZOFFSETTO:-0500
TZNAME:EST
DTSTART:20261101T060000
END:STANDARD
BEGIN:DAYLIGHT
TZOFFSETFROM:-0500
TZOFFSETTO:-0400
TZNAME:EDT
DTSTART:20270314T070000
END:DAYLIGHT
BEGIN:STANDARD
TZOFFSETFROM:-0400
TZOFFSETTO:-0500
TZNAME:EST
DTSTART:20271107T060000
END:STANDARD
END:VTIMEZONE
BEGIN:VEVENT
DTSTART;TZID=America/New_York:20260312T160000
DTEND;TZID=America/New_York:20260312T200000
DTSTAMP:20260422T194347
CREATED:20230216T174637Z
LAST-MODIFIED:20260213T152550Z
UID:10002893-1773331200-1773345600@www.templeemanuel.com
SUMMARY:Yom HaShoah Yellow Candle Assembly & Delivery
DESCRIPTION:Candle Assembly – Thursday\, March 12 // 4pm – 8pm in Adelson Hall\nOn Yom HaShoah we remember the individuals\, families\, communities and institutions destroyed during the Holocaust along with the lessons learned so that it never happens again. Join our Religious School students and the Temple Emanuel Brotherhood as we assemble the Yom HaShoah yellow candles to be lit on April 13. This meaningful experience is a way to remember\, reflect\, and make a difference. \nPizza will be served! \nCandle Pick-up for Delivery – Leventhal Sidman Community Court\nTo underscore the importance of lighting these candles on Yom HaShoah\, the Brotherhood will be coordinating the hand delivery of them by April 12th in time for Yom HaShoah. Anyone is welcome and encouraged to volunteer. It’s a rewarding experience for the whole family and a great opportunity for community service! \nSign up HERE to help us deliver candles to TE members who live in our community. We need more than 100 volunteers to ensure every local TE family is reached. At a time when remembrance matters more than ever\, your participation is deeply appreciated. \nVolunteer Pick-up Dates & Times: March 15 @ 11:00am-2:00pm; March 16 @ 6:00pm-7:30pm; and March 19 @ 5:00pm-7:00pm. Alternatives available if you are unavailable during these dates! \nVolunteer→ \n 
URL:https://www.templeemanuel.com/event/yom-hashoah-yellow-candle-assembly-delivery/
LOCATION:Adelson Community Hall\, 385 Ward Street\, Newton\, MA\, 02459\, United States
CATEGORIES:Brotherhood,Community,Yom HaShoah
ATTACH;FMTTYPE=image/png:https://www.templeemanuel.com/wp-content/uploads/2023/02/Yom-HaShoah-yellow-candle-assembly-delivery.png
END:VEVENT
END:VCALENDAR