
BEGIN:VCALENDAR
VERSION:2.0
PRODID:-//Temple Emanuel - ECPv6.15.20//NONSGML v1.0//EN
CALSCALE:GREGORIAN
METHOD:PUBLISH
X-ORIGINAL-URL:https://www.templeemanuel.com
X-WR-CALDESC:Events for Temple Emanuel
REFRESH-INTERVAL;VALUE=DURATION:PT1H
X-Robots-Tag:noindex
X-PUBLISHED-TTL:PT1H
BEGIN:VTIMEZONE
TZID:America/New_York
BEGIN:DAYLIGHT
TZOFFSETFROM:-0500
TZOFFSETTO:-0400
TZNAME:EDT
DTSTART:20240310T070000
END:DAYLIGHT
BEGIN:STANDARD
TZOFFSETFROM:-0400
TZOFFSETTO:-0500
TZNAME:EST
DTSTART:20241103T060000
END:STANDARD
BEGIN:DAYLIGHT
TZOFFSETFROM:-0500
TZOFFSETTO:-0400
TZNAME:EDT
DTSTART:20250309T070000
END:DAYLIGHT
BEGIN:STANDARD
TZOFFSETFROM:-0400
TZOFFSETTO:-0500
TZNAME:EST
DTSTART:20251102T060000
END:STANDARD
BEGIN:DAYLIGHT
TZOFFSETFROM:-0500
TZOFFSETTO:-0400
TZNAME:EDT
DTSTART:20260308T070000
END:DAYLIGHT
BEGIN:STANDARD
TZOFFSETFROM:-0400
TZOFFSETTO:-0500
TZNAME:EST
DTSTART:20261101T060000
END:STANDARD
END:VTIMEZONE
BEGIN:VEVENT
DTSTART;TZID=America/New_York:20250228T174500
DTEND;TZID=America/New_York:20250228T194500
DTSTAMP:20260425T102306
CREATED:20241016T154440Z
LAST-MODIFIED:20250205T222256Z
UID:10009325-1740764700-1740771900@www.templeemanuel.com
SUMMARY:Kitot Daled-Vav (Grades 4-6) Shabbat Dinner
DESCRIPTION:Calling all Kitot Daled\, Hay\, and Vav students and families! \nJoin us for a Shabbat dinner on Friday\, February 28th from 5:45-7:45! \nRegistration is required\, and the dinner is $36 per family. \nWe look forward to seeing you! \nRegister Here→
URL:https://www.templeemanuel.com/event/kitot-daled-vav-shabbat-dinner-2/
LOCATION:Adelson Community Hall\, 385 Ward Street\, Newton\, MA\, 02459\, United States
CATEGORIES:Religious School / Chai 385
ATTACH;FMTTYPE=image/png:https://www.templeemanuel.com/wp-content/uploads/2024/02/Kitot-Daled-Vav-Dinner.png
END:VEVENT
END:VCALENDAR