
BEGIN:VCALENDAR
VERSION:2.0
PRODID:-//Temple Emanuel - ECPv6.15.20//NONSGML v1.0//EN
CALSCALE:GREGORIAN
METHOD:PUBLISH
X-ORIGINAL-URL:https://www.templeemanuel.com
X-WR-CALDESC:Events for Temple Emanuel
REFRESH-INTERVAL;VALUE=DURATION:PT1H
X-Robots-Tag:noindex
X-PUBLISHED-TTL:PT1H
BEGIN:VTIMEZONE
TZID:America/New_York
BEGIN:DAYLIGHT
TZOFFSETFROM:-0500
TZOFFSETTO:-0400
TZNAME:EDT
DTSTART:20240310T070000
END:DAYLIGHT
BEGIN:STANDARD
TZOFFSETFROM:-0400
TZOFFSETTO:-0500
TZNAME:EST
DTSTART:20241103T060000
END:STANDARD
BEGIN:DAYLIGHT
TZOFFSETFROM:-0500
TZOFFSETTO:-0400
TZNAME:EDT
DTSTART:20250309T070000
END:DAYLIGHT
BEGIN:STANDARD
TZOFFSETFROM:-0400
TZOFFSETTO:-0500
TZNAME:EST
DTSTART:20251102T060000
END:STANDARD
BEGIN:DAYLIGHT
TZOFFSETFROM:-0500
TZOFFSETTO:-0400
TZNAME:EDT
DTSTART:20260308T070000
END:DAYLIGHT
BEGIN:STANDARD
TZOFFSETFROM:-0400
TZOFFSETTO:-0500
TZNAME:EST
DTSTART:20261101T060000
END:STANDARD
END:VTIMEZONE
BEGIN:VEVENT
DTSTART;TZID=America/New_York:20251018T083000
DTEND;TZID=America/New_York:20251018T092000
DTSTAMP:20260421T202130
CREATED:20250623T132119Z
LAST-MODIFIED:20260225T184924Z
UID:10011002-1760776200-1760779200@www.templeemanuel.com
SUMMARY:Talmud Class with Our Clergy
DESCRIPTION:Start Shabbat each week with a special hour of learning and discussion on a variety of Jewish issues with Wes\, Michelle\, Elias\, Aliza and Dan as our clergy team connects the lessons of our sacred texts with the realities of our lives. The clergy team will close with a song that leads into Shabbat morning services at 9:30. \nJoin us on livestream in the Rabbi Samuel Chiel Sanctuary
URL:https://www.templeemanuel.com/event/talmud-class/2025-10-18/
LOCATION:Hybrid (In Person and Virtual Options)\, 385 Ward Street\, Newton\, MA\, 02459\, United States
CATEGORIES:Adult Education,Featured,Livestream,Service Times,Shabbat
ATTACH;FMTTYPE=image/png:https://www.templeemanuel.com/wp-content/uploads/2025/06/Talmud-Class-Photo-Updated-1.png
END:VEVENT
BEGIN:VEVENT
DTSTART;TZID=America/New_York:20251011T083000
DTEND;TZID=America/New_York:20251011T092000
DTSTAMP:20260421T202130
CREATED:20250623T132119Z
LAST-MODIFIED:20260225T184924Z
UID:10011001-1760171400-1760174400@www.templeemanuel.com
SUMMARY:Talmud Class with Our Clergy
DESCRIPTION:Start Shabbat each week with a special hour of learning and discussion on a variety of Jewish issues with Wes\, Michelle\, Elias\, Aliza and Dan as our clergy team connects the lessons of our sacred texts with the realities of our lives. The clergy team will close with a song that leads into Shabbat morning services at 9:30. \nJoin us on livestream in the Rabbi Samuel Chiel Sanctuary
URL:https://www.templeemanuel.com/event/talmud-class/2025-10-11/
LOCATION:Hybrid (In Person and Virtual Options)\, 385 Ward Street\, Newton\, MA\, 02459\, United States
CATEGORIES:Adult Education,Featured,Livestream,Service Times,Shabbat
ATTACH;FMTTYPE=image/png:https://www.templeemanuel.com/wp-content/uploads/2025/06/Talmud-Class-Photo-Updated-1.png
END:VEVENT
BEGIN:VEVENT
DTSTART;TZID=America/New_York:20251004T083000
DTEND;TZID=America/New_York:20251004T092000
DTSTAMP:20260421T202130
CREATED:20250623T132119Z
LAST-MODIFIED:20260225T184924Z
UID:10011000-1759566600-1759569600@www.templeemanuel.com
SUMMARY:Talmud Class with Our Clergy
DESCRIPTION:Start Shabbat each week with a special hour of learning and discussion on a variety of Jewish issues with Wes\, Michelle\, Elias\, Aliza and Dan as our clergy team connects the lessons of our sacred texts with the realities of our lives. The clergy team will close with a song that leads into Shabbat morning services at 9:30. \nJoin us on livestream in the Rabbi Samuel Chiel Sanctuary
URL:https://www.templeemanuel.com/event/talmud-class/2025-10-04/
LOCATION:Hybrid (In Person and Virtual Options)\, 385 Ward Street\, Newton\, MA\, 02459\, United States
CATEGORIES:Adult Education,Featured,Livestream,Service Times,Shabbat
ATTACH;FMTTYPE=image/png:https://www.templeemanuel.com/wp-content/uploads/2025/06/Talmud-Class-Photo-Updated-1.png
END:VEVENT
BEGIN:VEVENT
DTSTART;TZID=America/New_York:20251001T201500
DTEND;TZID=America/New_York:20251001T220000
DTSTAMP:20260421T202130
CREATED:20240925T144455Z
LAST-MODIFIED:20251001T172734Z
UID:10009152-1759349700-1759356000@www.templeemanuel.com
SUMMARY:Kol Nidre Late Rabbi Samuel Chiel Sanctuary Service
DESCRIPTION:Join us in-person or Livestream
URL:https://www.templeemanuel.com/event/kol-nidre-rabbi-samuel-chiel-sanctuary-2/
LOCATION:Hybrid (In Person and Virtual Options)\, 385 Ward Street\, Newton\, MA\, 02459\, United States
CATEGORIES:High Holidays,Livestream,Service Times,Shabbat & Holiday Services
ATTACH;FMTTYPE=image/png:https://www.templeemanuel.com/wp-content/uploads/2025/09/HHD-5786-cover.png
END:VEVENT
BEGIN:VEVENT
DTSTART;TZID=America/New_York:20251001T201500
DTEND;TZID=America/New_York:20251001T220000
DTSTAMP:20260421T202130
CREATED:20220915T211648Z
LAST-MODIFIED:20251001T172641Z
UID:10002714-1759349700-1759356000@www.templeemanuel.com
SUMMARY:Kol Nidre Adelson Community Hall Service
DESCRIPTION:Join us in Adelson Community Hall or Livestream
URL:https://www.templeemanuel.com/event/kol-nidre-in-adelson-community-hall/
LOCATION:Hybrid (In Person and Virtual Options)\, 385 Ward Street\, Newton\, MA\, 02459\, United States
CATEGORIES:High Holidays,Livestream,Service Times,Shabbat & Holiday Services
ATTACH;FMTTYPE=image/png:https://www.templeemanuel.com/wp-content/uploads/2025/09/HHD-5786-cover.png
END:VEVENT
BEGIN:VEVENT
DTSTART;TZID=America/New_York:20251001T180000
DTEND;TZID=America/New_York:20251001T201000
DTSTAMP:20260421T202130
CREATED:20220915T181254Z
LAST-MODIFIED:20251001T172656Z
UID:10002698-1759341600-1759349400@www.templeemanuel.com
SUMMARY:Kol Nidre Reisman Traditional Lay-Led Service including Mincha/Ma'Ariv
DESCRIPTION:Join us in Reisman Hall or on Livestream
URL:https://www.templeemanuel.com/event/mincha-kol-nidre-reisman-traditional-lay-led-service/
LOCATION:Hybrid (In Person and Virtual Options)\, 385 Ward Street\, Newton\, MA\, 02459\, United States
CATEGORIES:High Holidays,Livestream,Service Times,Shabbat & Holiday Services
ATTACH;FMTTYPE=image/png:https://www.templeemanuel.com/wp-content/uploads/2025/09/HHD-5786-cover.png
END:VEVENT
BEGIN:VEVENT
DTSTART;TZID=America/New_York:20251001T180000
DTEND;TZID=America/New_York:20251001T194500
DTSTAMP:20260421T202130
CREATED:20230921T133827Z
LAST-MODIFIED:20251001T172710Z
UID:10005782-1759341600-1759347900@www.templeemanuel.com
SUMMARY:Kol Nidre Early Rabbi Samuel Chiel Sanctuary Service
DESCRIPTION:Join us in-person or Livestream
URL:https://www.templeemanuel.com/event/kol-nidre-rabbi-samuel-chiel-sanctuary/
LOCATION:Hybrid (In Person and Virtual Options)\, 385 Ward Street\, Newton\, MA\, 02459\, United States
CATEGORIES:High Holidays,Livestream,Service Times,Shabbat & Holiday Services
ATTACH;FMTTYPE=image/png:https://www.templeemanuel.com/wp-content/uploads/2025/09/HHD-5786-cover.png
END:VEVENT
BEGIN:VEVENT
DTSTART;TZID=America/New_York:20251001T174500
DTEND;TZID=America/New_York:20251001T180000
DTSTAMP:20260421T202130
CREATED:20220915T211458Z
LAST-MODIFIED:20251001T172722Z
UID:10002712-1759340700-1759341600@www.templeemanuel.com
SUMMARY:Kol Nidre Mincha Service
DESCRIPTION:Join us in the Rabbi Samuel Chiel Sanctuary or on Livestream 
URL:https://www.templeemanuel.com/event/first-mincha-kol-nidre-service/
LOCATION:Hybrid (In Person and Virtual Options)\, 385 Ward Street\, Newton\, MA\, 02459\, United States
CATEGORIES:High Holidays,Livestream,Service Times,Shabbat & Holiday Services
ATTACH;FMTTYPE=image/png:https://www.templeemanuel.com/wp-content/uploads/2025/09/HHD-5786-cover.png
END:VEVENT
BEGIN:VEVENT
DTSTART;TZID=America/New_York:20250927T083000
DTEND;TZID=America/New_York:20250927T092000
DTSTAMP:20260421T202130
CREATED:20250623T132119Z
LAST-MODIFIED:20260225T184924Z
UID:10010999-1758961800-1758964800@www.templeemanuel.com
SUMMARY:Talmud Class with Our Clergy
DESCRIPTION:Start Shabbat each week with a special hour of learning and discussion on a variety of Jewish issues with Wes\, Michelle\, Elias\, Aliza and Dan as our clergy team connects the lessons of our sacred texts with the realities of our lives. The clergy team will close with a song that leads into Shabbat morning services at 9:30. \nJoin us on livestream in the Rabbi Samuel Chiel Sanctuary
URL:https://www.templeemanuel.com/event/talmud-class/2025-09-27/
LOCATION:Hybrid (In Person and Virtual Options)\, 385 Ward Street\, Newton\, MA\, 02459\, United States
CATEGORIES:Adult Education,Featured,Livestream,Service Times,Shabbat
ATTACH;FMTTYPE=image/png:https://www.templeemanuel.com/wp-content/uploads/2025/06/Talmud-Class-Photo-Updated-1.png
END:VEVENT
BEGIN:VEVENT
DTSTART;TZID=America/New_York:20250924T180000
DTEND;TZID=America/New_York:20250924T190000
DTSTAMP:20260421T202130
CREATED:20220915T211038Z
LAST-MODIFIED:20250923T121748Z
UID:10002711-1758736800-1758740400@www.templeemanuel.com
SUMMARY:Rosh HaShanah Day II Mincha/Ma'Ariv
DESCRIPTION:Join us in person in the Gann Chapel or Livestream!  \n\n\n\n\n\n\n\n\n\n 
URL:https://www.templeemanuel.com/event/rosh-hashanah-day-ii-mincha-maariv/
LOCATION:Hybrid (In Person and Virtual Options)\, 385 Ward Street\, Newton\, MA\, 02459\, United States
CATEGORIES:High Holidays,Livestream,Service Times,Shabbat & Holiday Services
ATTACH;FMTTYPE=image/png:https://www.templeemanuel.com/wp-content/uploads/2025/09/HHD-5786-cover.png
END:VEVENT
BEGIN:VEVENT
DTSTART;TZID=America/New_York:20250924T100000
DTEND;TZID=America/New_York:20250924T123000
DTSTAMP:20260421T202130
CREATED:20220915T210849Z
LAST-MODIFIED:20250923T121600Z
UID:10002710-1758708000-1758717000@www.templeemanuel.com
SUMMARY:Rosh HaShanah Day II Adelson Contemporary Service
DESCRIPTION:Join us in Adelson Community Hall or Livestream \n\n\n\n\n\n\n\n\n\n 
URL:https://www.templeemanuel.com/event/rh-day-ii-contemporary-service/
LOCATION:Hybrid (In Person and Virtual Options)\, 385 Ward Street\, Newton\, MA\, 02459\, United States
CATEGORIES:High Holidays,Livestream,Service Times,Shabbat & Holiday Services
ATTACH;FMTTYPE=image/png:https://www.templeemanuel.com/wp-content/uploads/2025/09/HHD-5786-cover.png
END:VEVENT
BEGIN:VEVENT
DTSTART;TZID=America/New_York:20250924T083000
DTEND;TZID=America/New_York:20250924T130000
DTSTAMP:20260421T202130
CREATED:20220915T180135Z
LAST-MODIFIED:20250923T121459Z
UID:10002697-1758702600-1758718800@www.templeemanuel.com
SUMMARY:Rosh HaShanah Day II Reisman Traditional Lay-Led Service
DESCRIPTION:Join us in Reisman Hall or Livestream! \n\n\n\n\n\n\n\n\n\n 
URL:https://www.templeemanuel.com/event/rosh-hashanah-day-ii-reisman-traditional-lay-led-service/
LOCATION:Hybrid (In Person and Virtual Options)\, 385 Ward Street\, Newton\, MA\, 02459\, United States
CATEGORIES:High Holidays,Livestream,Service Times,Shabbat & Holiday Services
ATTACH;FMTTYPE=image/png:https://www.templeemanuel.com/wp-content/uploads/2025/09/HHD-5786-cover.png
END:VEVENT
BEGIN:VEVENT
DTSTART;TZID=America/New_York:20250924T080000
DTEND;TZID=America/New_York:20250924T103000
DTSTAMP:20260421T202130
CREATED:20220915T213030Z
LAST-MODIFIED:20250923T121436Z
UID:10002462-1758700800-1758709800@www.templeemanuel.com
SUMMARY:Rosh HaShanah Day II Early Sanctuary Service
DESCRIPTION:Join in person in the Rabbi Samuel Chiel Sanctuary or Livestream!
URL:https://www.templeemanuel.com/event/rh-day-ii-sanctuary-service/
LOCATION:Hybrid (In Person and Virtual Options)\, 385 Ward Street\, Newton\, MA\, 02459\, United States
CATEGORIES:High Holidays,Livestream,Service Times,Shabbat & Holiday Services
ATTACH;FMTTYPE=image/png:https://www.templeemanuel.com/wp-content/uploads/2025/09/HHD-5786-cover.png
END:VEVENT
BEGIN:VEVENT
DTSTART;TZID=America/New_York:20250923T113000
DTEND;TZID=America/New_York:20250923T140000
DTSTAMP:20260421T202130
CREATED:20220915T204627Z
LAST-MODIFIED:20250923T120544Z
UID:10002707-1758627000-1758636000@www.templeemanuel.com
SUMMARY:Rosh HaShanah Day I Adelson Community Hall Service
DESCRIPTION:Join us in Adelson Community Hall or Virtually.
URL:https://www.templeemanuel.com/event/rh-i-adelson-community-hall-service/
LOCATION:Hybrid (In Person and Virtual Options)\, 385 Ward Street\, Newton\, MA\, 02459\, United States
CATEGORIES:High Holidays,Livestream,Service Times,Shabbat & Holiday Services
ATTACH;FMTTYPE=image/png:https://www.templeemanuel.com/wp-content/uploads/2025/09/HHD-5786-cover.png
END:VEVENT
BEGIN:VEVENT
DTSTART;TZID=America/New_York:20250923T083000
DTEND;TZID=America/New_York:20250923T130000
DTSTAMP:20260421T202130
CREATED:20220915T180015Z
LAST-MODIFIED:20250923T120408Z
UID:10002696-1758616200-1758632400@www.templeemanuel.com
SUMMARY:Rosh HaShanah I Reisman Traditional Lay-Led Service
DESCRIPTION:Join us in Reisman Hall or Livestream!   \n\n\n\n\n\n\n\n\n\n 
URL:https://www.templeemanuel.com/event/rosh-hashanah-i-reisman-hall-traditional-lay-led-service/
LOCATION:Hybrid (In Person and Virtual Options)\, 385 Ward Street\, Newton\, MA\, 02459\, United States
CATEGORIES:High Holidays,Livestream,Service Times,Shabbat & Holiday Services
ATTACH;FMTTYPE=image/png:https://www.templeemanuel.com/wp-content/uploads/2025/09/HHD-5786-cover.png
END:VEVENT
BEGIN:VEVENT
DTSTART;TZID=America/New_York:20250923T080000
DTEND;TZID=America/New_York:20250923T110000
DTSTAMP:20260421T202130
CREATED:20250923T114644Z
LAST-MODIFIED:20250923T120059Z
UID:10011967-1758614400-1758625200@www.templeemanuel.com
SUMMARY:Rosh HaShanah Day I Early Rabbi Samuel Chiel Sanctuary Service
DESCRIPTION:
URL:https://www.templeemanuel.com/event/rosh-hashanah-day-i-early-rabbi-samuel-chiel-sanctuary-service/
LOCATION:Hybrid (In Person and Virtual Options)\, 385 Ward Street\, Newton\, MA\, 02459\, United States
CATEGORIES:High Holidays,Livestream,Service Times,Shabbat & Holiday Services
ATTACH;FMTTYPE=image/png:https://www.templeemanuel.com/wp-content/uploads/2025/09/HHD-5786-cover.png
END:VEVENT
BEGIN:VEVENT
DTSTART;TZID=America/New_York:20250920T083000
DTEND;TZID=America/New_York:20250920T092000
DTSTAMP:20260421T202130
CREATED:20250623T132119Z
LAST-MODIFIED:20260225T184924Z
UID:10010998-1758357000-1758360000@www.templeemanuel.com
SUMMARY:Talmud Class with Our Clergy
DESCRIPTION:Start Shabbat each week with a special hour of learning and discussion on a variety of Jewish issues with Wes\, Michelle\, Elias\, Aliza and Dan as our clergy team connects the lessons of our sacred texts with the realities of our lives. The clergy team will close with a song that leads into Shabbat morning services at 9:30. \nJoin us on livestream in the Rabbi Samuel Chiel Sanctuary
URL:https://www.templeemanuel.com/event/talmud-class/2025-09-20/
LOCATION:Hybrid (In Person and Virtual Options)\, 385 Ward Street\, Newton\, MA\, 02459\, United States
CATEGORIES:Adult Education,Featured,Livestream,Service Times,Shabbat
ATTACH;FMTTYPE=image/png:https://www.templeemanuel.com/wp-content/uploads/2025/06/Talmud-Class-Photo-Updated-1.png
END:VEVENT
BEGIN:VEVENT
DTSTART;TZID=America/New_York:20250913T083000
DTEND;TZID=America/New_York:20250913T092000
DTSTAMP:20260421T202130
CREATED:20250623T132119Z
LAST-MODIFIED:20260225T184924Z
UID:10010917-1757752200-1757755200@www.templeemanuel.com
SUMMARY:Talmud Class with Our Clergy
DESCRIPTION:Start Shabbat each week with a special hour of learning and discussion on a variety of Jewish issues with Wes\, Michelle\, Elias\, Aliza and Dan as our clergy team connects the lessons of our sacred texts with the realities of our lives. The clergy team will close with a song that leads into Shabbat morning services at 9:30. \nJoin us on livestream in the Rabbi Samuel Chiel Sanctuary
URL:https://www.templeemanuel.com/event/talmud-class/2025-09-13/
LOCATION:Hybrid (In Person and Virtual Options)\, 385 Ward Street\, Newton\, MA\, 02459\, United States
CATEGORIES:Adult Education,Featured,Livestream,Service Times,Shabbat
ATTACH;FMTTYPE=image/png:https://www.templeemanuel.com/wp-content/uploads/2025/06/Talmud-Class-Photo-Updated-1.png
END:VEVENT
BEGIN:VEVENT
DTSTART;TZID=America/New_York:20250909T114500
DTEND;TZID=America/New_York:20250909T140000
DTSTAMP:20260421T202130
CREATED:20250715T134908Z
LAST-MODIFIED:20260421T161235Z
UID:10010710-1757418300-1757426400@www.templeemanuel.com
SUMMARY:L’Chaim
DESCRIPTION:All are welcome to join us on Tuesdays in Reisman Hall! Stay for exercise following our L’CHAIM programs at 2:10pm \nYou must RSVP for each program to Tracy Schneider at tracys120@yahoo.com \n\nApr 28 – Concert with Ruth Rappaport and Jonah Sidman \n12:15pm luncheon generously sponsored by The Residence\, at Boylston Place\, Chestnut Hill\, an LCB senior living community and supported by Gourmet Catering By Andrew \n1pm program \nGuitarist and pianist Ruth Rappaport and fiddler Jonah Sidman will perform an exciting show influenced by klezmer\, Yiddish\, Irish fiddle\, and American musical traditions. \nMay 19 – A Tribute to Soprano Beverly Sills \n12:15pm lunch generously sponsored by a donation from a Temple Emanuel couple and supported by Gourmet Catering By Andrew. \nProgram at 1pm \nFor more than three decades\, coloratura-soprano Beverly Sills captured America’s heart with her silvery voice\, glorious artistry\, irrepressible personality and self-deprecating humor. She demystified opera – and fine arts in general. Her life embodied an archetypal American story of humble origins\, years of struggle\, family tragedy and artistic triumph! \nSpeaker Erika Reitshamer returns to Temple Emanuel. She brings opera to life with the insight\, enthusiasm\, and storytelling flair of someone who has devoted her entire life to the art form. Born and educated in Germany\, she has become one of the Boston area’s most engaging voices on opera\, captivating audiences for decades with her deep knowledge of the repertoire and the legendary singers who shaped it. \nA driving force behind the founding of the Boston Lyric Opera more than 45 years ago\, Ms. Reitshamer has led opera tours across Europe\, served for many years as Vice President of the Boston Wagner Society\, and built a reputation as an inspiring educator. Her most recent program for Temple Emanuel was “The Great Tenors Sing Out” on October 15\, 2025. \nMay 26 – Cantor Elias Rosemberg and Pianist Jeremiah Klarman in concert \n12:15pm lunch generously sponsored by a donation from The Residence at Boylston Place\, an LCB senior living community in Chestnut Hill\, and supported by Gourmet Catering By Andrew. Program at 1pm. Stay for exercise following our L’CHAIM programs at 2:10pm. \nCantor Elias Rosemberg will perform along with Pianist Jeremiah Klarman in a wonderful concert of Cantorial\, Yiddish\, Israeli and Ladino music as well as Broadway Favorites\, and Opera! Not to be missed! \nFriday\, June 5 – Join L’CHAIM for a Shabbat dinner together as a community of Active Older Adults! \n4:30pm concert followed by dinner at 5:15pm in Reisman Hall \nSpecial performance by Kol Emanuel led by Eugenia Gerstein with special guest performance by Cantor Elias Rosemberg. \nYou MUST RSVP to Tracys120@yahoo.com. 70 spots available. \nDinner sponsored by Wingate Senior Living and West River Care and suppoted by Gourmet Catering By Andrew. \n\n \nANNUAL MEMBERSHIP DUES are $18 per person. Please consider making a small donation of appreciation to the L’CHAIM Group. Please mail checks of any donation to Temple Emanuel\, 385 Ward Street\, Newton\, MA 02459\, ATTN: FINANCE. Please make checks payable to TEMPLE EMANUEL. In memo line please write L’CHAIM GROUP. \n\n\n\n\n\n\n\n\n\n 
URL:https://www.templeemanuel.com/event/lchaim/2025-09-09/
LOCATION:Hybrid (In Person and Virtual Options)\, 385 Ward Street\, Newton\, MA\, 02459\, United States
CATEGORIES:Active Older Adults
ATTACH;FMTTYPE=image/png:https://www.templeemanuel.com/wp-content/uploads/2021/12/LChaim.png
END:VEVENT
BEGIN:VEVENT
DTSTART;TZID=America/New_York:20250906T083000
DTEND;TZID=America/New_York:20250906T092000
DTSTAMP:20260421T202130
CREATED:20250623T132119Z
LAST-MODIFIED:20260225T184924Z
UID:10011759-1757147400-1757150400@www.templeemanuel.com
SUMMARY:Talmud Class with Our Clergy
DESCRIPTION:Start Shabbat each week with a special hour of learning and discussion on a variety of Jewish issues with Wes\, Michelle\, Elias\, Aliza and Dan as our clergy team connects the lessons of our sacred texts with the realities of our lives. The clergy team will close with a song that leads into Shabbat morning services at 9:30. \nJoin us on livestream in the Rabbi Samuel Chiel Sanctuary
URL:https://www.templeemanuel.com/event/talmud-class/2025-09-06/
LOCATION:Hybrid (In Person and Virtual Options)\, 385 Ward Street\, Newton\, MA\, 02459\, United States
CATEGORIES:Adult Education,Featured,Livestream,Service Times,Shabbat
ATTACH;FMTTYPE=image/png:https://www.templeemanuel.com/wp-content/uploads/2025/06/Talmud-Class-Photo-Updated-1.png
END:VEVENT
BEGIN:VEVENT
DTSTART;TZID=America/New_York:20250115T190000
DTEND;TZID=America/New_York:20250115T213000
DTSTAMP:20260421T202130
CREATED:20241213T172820Z
LAST-MODIFIED:20241216T150147Z
UID:10009846-1736967600-1736976600@www.templeemanuel.com
SUMMARY:Genealogy Talk
DESCRIPTION:Dispelling the Myths of Jewish Genealogy \nHave you thought the barriers to researching your Jewish ancestors were insurmountable? You may have based those conclusions on myths. This presentation will describe the facts that dispel widely-held myths\, and identify the first steps to get started in Jewish Genealogy research. Brought to life with family stories\, don’t miss this lively and informative evening! \nThe presenter\, Sonia Lipetz\, is President of the Jewish Genealogical Society of Greater Boston. She has been researching her family in Belarus and Ukraine for close to 20 years! When away from her computer\, she is an avid tennis player and fan. \nDoors open at 7pm\, program online starts at 7:30pm. Virtual attendees will receive a link the day before the event. A light dinner will be served. \nRegister Here by January 13th. \nFor more information\, please contact Jane.
URL:https://www.templeemanuel.com/event/genealogy-talk/
LOCATION:Hybrid (In Person and Virtual Options)\, 385 Ward Street\, Newton\, MA\, 02459\, United States
CATEGORIES:Community,Sisterhood
ATTACH;FMTTYPE=image/png:https://www.templeemanuel.com/wp-content/uploads/2024/12/Jewish-Geneaology.png
END:VEVENT
END:VCALENDAR